BEGIN:VCALENDAR
VERSION:2.0
PRODID:-//ADICAE Castilla y León - ECPv6.15.20//NONSGML v1.0//EN
CALSCALE:GREGORIAN
METHOD:PUBLISH
X-WR-CALNAME:ADICAE Castilla y León
X-ORIGINAL-URL:https://castillayleon.adicae.es
X-WR-CALDESC:Eventos para ADICAE Castilla y León
REFRESH-INTERVAL;VALUE=DURATION:PT1H
X-Robots-Tag:noindex
X-PUBLISHED-TTL:PT1H
BEGIN:VTIMEZONE
TZID:Europe/Madrid
BEGIN:DAYLIGHT
TZOFFSETFROM:+0100
TZOFFSETTO:+0200
TZNAME:CEST
DTSTART:20240331T010000
END:DAYLIGHT
BEGIN:STANDARD
TZOFFSETFROM:+0200
TZOFFSETTO:+0100
TZNAME:CET
DTSTART:20241027T010000
END:STANDARD
BEGIN:DAYLIGHT
TZOFFSETFROM:+0100
TZOFFSETTO:+0200
TZNAME:CEST
DTSTART:20250330T010000
END:DAYLIGHT
BEGIN:STANDARD
TZOFFSETFROM:+0200
TZOFFSETTO:+0100
TZNAME:CET
DTSTART:20251026T010000
END:STANDARD
BEGIN:DAYLIGHT
TZOFFSETFROM:+0100
TZOFFSETTO:+0200
TZNAME:CEST
DTSTART:20260329T010000
END:DAYLIGHT
BEGIN:STANDARD
TZOFFSETFROM:+0200
TZOFFSETTO:+0100
TZNAME:CET
DTSTART:20261025T010000
END:STANDARD
END:VTIMEZONE
BEGIN:VEVENT
DTSTART;TZID=Europe/Madrid:20251103T173000
DTEND;TZID=Europe/Madrid:20251103T190000
DTSTAMP:20260423T161258
CREATED:20251003T102426Z
LAST-MODIFIED:20251003T102426Z
UID:1039-1762191000-1762196400@castillayleon.adicae.es
SUMMARY:APRENDE A USAR TU MÓVIL
DESCRIPTION:Queridos socios/as: \nSabemos que la tecnología avanza muy rápido… pero también sabemos que nunca es tarde para aprender.Y más aún cuando se trata de algo que puede hacerte la vida más fácil. \nPor eso\, desde ADICAE retomamos nuestros talleres de alfabetización digital para móvil\, el lunes 20 de octubre\, donde aprenderás paso a paso y sin agobios a usar tu teléfono de forma sencilla\, práctica y segura. \n\n¿Te suena alguna de estas frases?\n\n“Tengo móvil\, pero no me aclaro mucho con él…”\n“No me atrevo a tocar cosas por si lo estropeo”\n“Quiero hacer más cosas\, pero no sé por dónde empezar”\n\n¡Entonces este taller es para ti!No importa si sabes poco o nada. Estaremos a tu lado para que ganes confianza y autonomía en el uso de tu móvil. \n¿Qué aprenderás?\n✔ A moverte con soltura por el móvil✔ A hacer fotos\, videollamadas y enviar mensajes✔ A buscar información útil en internet✔ A identificar fraudes y proteger tus datos✔ A usar apps prácticas (salud\, administración\, consumo…) \n¿Cuándo y dónde?\n📅Todos los lunes a las\n17:30 H -19:00 H \n📍Presencial en la sede de ADICAE Castilla y León💰 Taller GRATUITO \nSerá un espacio tranquilo\, paso a paso\, con acompañamiento personalizado y sin necesidad de tener conocimientos previos. Además\, compartirás la experiencia con otras personas socias con tus mismas inquietudes. \nDa el paso\, que nosotros te acompañamos. \nTu móvil puede ser tu gran aliado. \n¡TE INVITAMOS A VISITARNOS!
URL:https://castillayleon.adicae.es/actividad/aprende-a-usar-tu-movil-2/
LOCATION:Sede ADICAE Castilla y León\, Calle General Ruiz\, 2 (Pasaje de la Marquesina)\, Local 12\, Valladolid\, VALLADOLID\, 47004\, España
ATTACH;FMTTYPE=image/png:https://castillayleon.adicae.es/wp-content/uploads/2025/10/a3689d34-d26b-d697-f658-82bf6122b8a9.png
END:VEVENT
BEGIN:VEVENT
DTSTART;TZID=Europe/Madrid:20251110T173000
DTEND;TZID=Europe/Madrid:20251110T193000
DTSTAMP:20260423T161258
CREATED:20251103T174416Z
LAST-MODIFIED:20251103T174648Z
UID:1075-1762795800-1762803000@castillayleon.adicae.es
SUMMARY:TALLER: "LOS CONSUMIDORES Y LA IA EN EL COMERCIO ELECTRÓNICO"
DESCRIPTION:Desde ADICAE y enmarcado en un proyecto subvencionado por el Ministerio de Derechos Sociales\, Consumo y Agenda 2030\, os ofrecemos una serie de talleres formativos / prácticos (este es el primero de ellos) con la finalidad de enseñaros a usar la Inteligencia Artificial durante los procesos de compra y analizar sus capacidades y ventajas reales para nosotros como consumidores (por ejemplo\, las respuestas que ofrecen a diferentes cuestiones que se les plantearán durante el taller). \nTras este  taller aprenderéis a manejar las aplicaciones o asistentes virtuales corporativos de inteligencia artificial durante vuestras compras o bien en nuestras solicitudes de información\, para realizar la elección más optima en la selección de productos y servicios que consumimos. \nEs por ello que es un taller formativo eminentemente práctico en el que se interactuará en directo con las IAs de empresas como ABANCA\, General Óptica\, Naturgy\, Chippio\, Burberry\, entre otras)\, así como pruebas directas sobre las plataformas ChatGPT o Gemini. \nPor eso\, y porque la interacción con las diversas Inteligencias Artificiales es el futuro que ya está aquí te invitamos a participar en este taller donde podremos: \n🔍 Analizar el grado de desarrollo de las IAs en las web de diversas empresas. \n📉 Comprobar si aportan soluciones reales al consumidor o sólo pretenden embaucarnos hacia la compra. \n🛡️ Aprender los comandos más exactos para que las IAs de búsqueda de información nos ofrezcan un resultado detallado y preciso a las cuestiones que les planteamos. \n***Además\, durante el propio taller realizaremos un concurso con preguntas relacionadas en el que los ganadores que se encuentren allí presentes se llevarán un pequeño obsequio por parte de ADICAE.  \nLa participación\, como siempre\, es totalmente gratuita\, ¡Inscríbete cuanto antes! \n¿Cómo puedo acudir a la sesión? \nPresencialmente (confirmación previa de asistencia para preparar la sala de conferencias): en la sede de Adicae CyL (Calle General Ruiz\, 2\, Pasaje de la Marquesina\, Local 12). 47004 Valladolid \nVideoconferencia: inscribiéndote AQUÍ \n¡Te esperamos!
URL:https://castillayleon.adicae.es/actividad/taller-los-consumidores-y-la-ia-en-el-comercio-electronico/
LOCATION:Sede ADICAE Castilla y León\, Calle General Ruiz\, 2 (Pasaje de la Marquesina)\, Local 12\, Valladolid\, VALLADOLID\, 47004\, España
ATTACH;FMTTYPE=image/jpeg:https://castillayleon.adicae.es/wp-content/uploads/2025/11/TALLERES-FORMATIVOS-IA-COMERCIO_CYL_10_NOVIEMBRE-1.jpg
END:VEVENT
BEGIN:VEVENT
DTSTART;TZID=Europe/Madrid:20251117T173000
DTEND;TZID=Europe/Madrid:20251117T190000
DTSTAMP:20260423T161258
CREATED:20251003T102828Z
LAST-MODIFIED:20251003T102828Z
UID:1043-1763400600-1763406000@castillayleon.adicae.es
SUMMARY:APRENDE A USAR TU TELÉFONO MOVIL
DESCRIPTION:Queridos socios/as: \nSabemos que la tecnología avanza muy rápido… pero también sabemos que nunca es tarde para aprender.Y más aún cuando se trata de algo que puede hacerte la vida más fácil. \nPor eso\, desde ADICAE retomamos nuestros talleres de alfabetización digital para móvil\, el lunes 20 de octubre\, donde aprenderás paso a paso y sin agobios a usar tu teléfono de forma sencilla\, práctica y segura. \n¿Te suena alguna de estas frases?\n\n“Tengo móvil\, pero no me aclaro mucho con él…”\n“No me atrevo a tocar cosas por si lo estropeo”\n“Quiero hacer más cosas\, pero no sé por dónde empezar”\n\n¡Entonces este taller es para ti!No importa si sabes poco o nada. Estaremos a tu lado para que ganes confianza y autonomía en el uso de tu móvil. \n¿Qué aprenderás?\n✔ A moverte con soltura por el móvil✔ A hacer fotos\, videollamadas y enviar mensajes✔ A buscar información útil en internet✔ A identificar fraudes y proteger tus datos✔ A usar apps prácticas (salud\, administración\, consumo…) \n¿Cuándo y dónde?\n📅Todos los lunes a las\n17:30 H -19:00 H \n📍Presencial en la sede de ADICAE Castilla y León💰 Taller GRATUITO \nSerá un espacio tranquilo\, paso a paso\, con acompañamiento personalizado y sin necesidad de tener conocimientos previos. Además\, compartirás la experiencia con otras personas socias con tus mismas inquietudes. \nDa el paso\, que nosotros te acompañamos. \nTu móvil puede ser tu gran aliado. \n¡TE INVITAMOS A VISITARNOS!
URL:https://castillayleon.adicae.es/actividad/aprende-a-usar-tu-telefono-movil-3/
LOCATION:Sede ADICAE Castilla y León\, Calle General Ruiz\, 2 (Pasaje de la Marquesina)\, Local 12\, Valladolid\, VALLADOLID\, 47004\, España
ATTACH;FMTTYPE=image/png:https://castillayleon.adicae.es/wp-content/uploads/2025/10/a3689d34-d26b-d697-f658-82bf6122b8a9.png
END:VEVENT
BEGIN:VEVENT
DTSTART;TZID=Europe/Madrid:20251124T160000
DTEND;TZID=Europe/Madrid:20251124T180000
DTSTAMP:20260423T161258
CREATED:20251111T163951Z
LAST-MODIFIED:20251113T092915Z
UID:1089-1764000000-1764007200@castillayleon.adicae.es
SUMMARY:TALLER FORMATIVO – PRÁCTICO: «LOS CONSUMIDORES Y LA IA EN EL COMERCIO ELECTRÓNICO»
DESCRIPTION:Desde ADICAE y enmarcado en un proyecto subvencionado por el Ministerio de Derechos Sociales\, Consumo y Agenda 2030\, os invitamos a asistir y a participar en este interesante taller formativo-práctico  con la finalidad de enseñaros a entender y a poner a prueba a la Inteligencia Artificial de diferentes empresas durante los procesos de compra\, y analizar sus capacidades y ventajas reales para nosotros como consumidores (por ejemplo\, las respuestas que ofrecen a diferentes cuestiones que se les plantearán durante el taller). \nTras este  taller podréis ser capaces de manejar las aplicaciones o asistentes virtuales corporativos de inteligencia artificial durante vuestras compras o bien en nuestras solicitudes de información\, para realizar la elección más optima en la selección de productos y servicios que consumimos. \nEs por ello que es un taller formativo eminentemente práctico en el que se interactuará en directo con las IAs de empresas como ABANCA\, General Óptica\, Naturgy\, Chippio\, Burberry\, entre otras)\, así como pruebas directas sobre las plataformas ChatGPT o Gemini. \nPor eso\, y porque la interacción con las diversas Inteligencias Artificiales es el futuro que ya está aquí les invitamos a participar en este taller donde podremos: \n🔍 Analizar el grado de desarrollo de las IAs en las web de diversas empresas.📉 Comprobar si aportan soluciones reales al consumidor o sólo pretenden embaucarnos hacia la compra.🛡️ Aprender los comandos más exactos para que las IAs de búsqueda de información nos ofrezcan un resultado detallado y preciso a las cuestiones que les planteamos. \n***Además\, durante el propio taller realizaremos un concurso con preguntas relacionadas en el que los ganadores que se encuentren allí presentes se llevarán un pequeño obsequio por parte de ADICAE.  \nLa participación\, como siempre\, es totalmente gratuita\, ¡Inscríbete cuanto antes! \n¿Cómo puedo acudir a la sesión? \nPresencialmente: acudiendo a la Casa de Cultura C/ Plaza Matadero\, 3\, 40100 (Real Sitio de San Ildefonso)\, en Segovia\, a la hora indicada. \nVideoconferencia: inscribiéndote AQUÍ \n¡Os esperamos!
URL:https://castillayleon.adicae.es/actividad/1089/
LOCATION:VALLADOLID
ATTACH;FMTTYPE=image/jpeg:https://castillayleon.adicae.es/wp-content/uploads/2025/11/TALLERES-FORMATIVOS-IA-COMERCIO_CYL_24_Noviembre.jpg
END:VEVENT
BEGIN:VEVENT
DTSTART;TZID=Europe/Madrid:20251124T180000
DTEND;TZID=Europe/Madrid:20251124T193000
DTSTAMP:20260423T161258
CREATED:20251003T102915Z
LAST-MODIFIED:20251113T093351Z
UID:1045-1764007200-1764012600@castillayleon.adicae.es
SUMMARY:APRENDE A USAR TU TELÉFONO MOVIL
DESCRIPTION:Queridos socios/as: \nSabemos que la tecnología avanza muy rápido… pero también sabemos que nunca es tarde para aprender.Y más aún cuando se trata de algo que puede hacerte la vida más fácil. \nPor eso\, desde ADICAE retomamos nuestros talleres de alfabetización digital para móvil\, el lunes 20 de octubre\, donde aprenderás paso a paso y sin agobios a usar tu teléfono de forma sencilla\, práctica y segura. \n¿Te suena alguna de estas frases?\n\n“Tengo móvil\, pero no me aclaro mucho con él…”\n“No me atrevo a tocar cosas por si lo estropeo”\n“Quiero hacer más cosas\, pero no sé por dónde empezar”\n\n¡Entonces este taller es para ti!No importa si sabes poco o nada. Estaremos a tu lado para que ganes confianza y autonomía en el uso de tu móvil. \n¿Qué aprenderás?\n✔ A moverte con soltura por el móvil✔ A hacer fotos\, videollamadas y enviar mensajes✔ A buscar información útil en internet✔ A identificar fraudes y proteger tus datos✔ A usar apps prácticas (salud\, administración\, consumo…) \n¿Cuándo y dónde?\n📅Todos los lunes a las\n18:00 H -19:30 H \n📍Presencial en la sede de ADICAE Castilla y León💰 Taller GRATUITO \nSerá un espacio tranquilo\, paso a paso\, con acompañamiento personalizado y sin necesidad de tener conocimientos previos. Además\, compartirás la experiencia con otras personas socias con tus mismas inquietudes. \nDa el paso\, que nosotros te acompañamos. \nTu móvil puede ser tu gran aliado. \n¡TE INVITAMOS A VISITARNOS!
URL:https://castillayleon.adicae.es/actividad/aprende-a-usar-tu-telefono-movil-4/
LOCATION:Sede ADICAE Castilla y León\, Calle General Ruiz\, 2 (Pasaje de la Marquesina)\, Local 12\, Valladolid\, VALLADOLID\, 47004\, España
ATTACH;FMTTYPE=image/png:https://castillayleon.adicae.es/wp-content/uploads/2025/10/a3689d34-d26b-d697-f658-82bf6122b8a9.png
END:VEVENT
BEGIN:VEVENT
DTSTART;TZID=Europe/Madrid:20251126T173000
DTEND;TZID=Europe/Madrid:20251126T193000
DTSTAMP:20260423T161258
CREATED:20251107T095914Z
LAST-MODIFIED:20251107T103555Z
UID:1080-1764178200-1764185400@castillayleon.adicae.es
SUMMARY:TALLER FORMATIVO - PRÁCTICO: "LOS CONSUMIDORES Y LA IA EN EL COMERCIO ELECTRÓNICO"
DESCRIPTION:Desde ADICAE y enmarcado en un proyecto subvencionado por el Ministerio de Derechos Sociales\, Consumo y Agenda 2030\, os invitamos a asistir y a participar en este interesante taller formativo-práctico  con la finalidad de enseñaros a entender y a poner a prueba a la Inteligencia Artificial de diferentes empresas durante los procesos de compra\, y analizar sus capacidades y ventajas reales para nosotros como consumidores (por ejemplo\, las respuestas que ofrecen a diferentes cuestiones que se les plantearán durante el taller). \nTras este  taller podréis ser capaces de manejar las aplicaciones o asistentes virtuales corporativos de inteligencia artificial durante vuestras compras o bien en nuestras solicitudes de información\, para realizar la elección más optima en la selección de productos y servicios que consumimos. \nEs por ello que es un taller formativo eminentemente práctico en el que se interactuará en directo con las IAs de empresas como ABANCA\, General Óptica\, Naturgy\, Chippio\, Burberry\, entre otras)\, así como pruebas directas sobre las plataformas ChatGPT o Gemini. \nPor eso\, y porque la interacción con las diversas Inteligencias Artificiales es el futuro que ya está aquí les invitamos a participar en este taller donde podremos: \n🔍 Analizar el grado de desarrollo de las IAs en las web de diversas empresas.📉 Comprobar si aportan soluciones reales al consumidor o sólo pretenden embaucarnos hacia la compra.🛡️ Aprender los comandos más exactos para que las IAs de búsqueda de información nos ofrezcan un resultado detallado y preciso a las cuestiones que les planteamos. \n***Además\, durante el propio taller realizaremos un concurso con preguntas relacionadas en el que los ganadores que se encuentren allí presentes se llevarán un pequeño obsequio por parte de ADICAE.  \nLa participación\, como siempre\, es totalmente gratuita\, ¡Inscríbete cuanto antes! \n¿Cómo puedo acudir a la sesión? \nPresencialmente: acudiendo a la «Casa de los Fantasmas»\, en la Plaza del Trigo\, 10 de Aranda de Duero (Burgos) a la hora indicada. \nVideoconferencia: inscribiéndote AQUÍ \n¡Os esperamos!
URL:https://castillayleon.adicae.es/actividad/taller-formativo-practico-los-consumidores-y-la-ia-en-el-comercio-electronico/
LOCATION:VALLADOLID
ATTACH;FMTTYPE=image/jpeg:https://castillayleon.adicae.es/wp-content/uploads/2025/11/TALLERES-FORMATIVOS-IA-COMERCIO_CYL_26_Noviembre-1.jpg
END:VEVENT
BEGIN:VEVENT
DTSTART;TZID=Europe/Madrid:20251128T170000
DTEND;TZID=Europe/Madrid:20251128T190000
DTSTAMP:20260423T161258
CREATED:20251113T114908Z
LAST-MODIFIED:20251119T102452Z
UID:1096-1764349200-1764356400@castillayleon.adicae.es
SUMMARY:TALLER FORMATIVO Y PRÁCTICO: "LOS CONSUMIDORES Y LA IA EN EL COMERCIO ELECTRÓNICO"
DESCRIPTION:Desde ADICAE y enmarcado en un proyecto subvencionado por el Ministerio de Derechos Sociales\, Consumo y Agenda 2030\, os invitamos a asistir y a participar en este interesante taller formativo-práctico  con la finalidad de enseñaros a entender y a poner a prueba a la Inteligencia Artificial de diferentes empresas durante los procesos de compra\, y analizar sus capacidades y ventajas reales para nosotros como consumidores (por ejemplo\, las respuestas que ofrecen a diferentes cuestiones que se les plantearán durante el taller). \nTras este  taller podréis ser capaces de manejar las aplicaciones o asistentes virtuales corporativos de inteligencia artificial durante vuestras compras o bien en nuestras solicitudes de información\, para realizar la elección más optima en la selección de productos y servicios que consumimos. \nEs por ello que es un taller formativo eminentemente práctico en el que se interactuará en directo con las IAs de empresas como ABANCA\, General Óptica\, Naturgy\, Chippio\, Burberry\, entre otras)\, así como pruebas directas sobre las plataformas ChatGPT o Gemini. \nPor eso\, y porque la interacción con las diversas Inteligencias Artificiales es el futuro que ya está aquí les invitamos a participar en este taller donde podremos: \n🔍 Analizar el grado de desarrollo de las IAs en las web de diversas empresas.📉 Comprobar si aportan soluciones reales al consumidor o sólo pretenden embaucarnos hacia la compra.🛡️ Aprender los comandos más exactos para que las IAs de búsqueda de información nos ofrezcan un resultado detallado y preciso a las cuestiones que les planteamos. \n***Además\, durante el propio taller realizaremos un concurso con preguntas relacionadas en el que los ganadores que se encuentren allí presentes se llevarán un pequeño obsequio por parte de ADICAE.  \nLa participación\, como siempre\, es totalmente gratuita\, ¡Inscríbete cuanto antes! \n¿Cómo puedo acudir a la sesión? \nPresencialmente: acudiendo al Salón de Actos del Ayuntamiento de Montemayor de Pililla en C/ Pl. Mayor\, 1\, 47320 Montemayor de Pililla (Valladolid) a la hora indicada. \nVideoconferencia: simplemente inscribiéndote AQUÍ \n¡Os esperamos!
URL:https://castillayleon.adicae.es/actividad/taller-formativo-y-practico-los-consumidores-y-la-ia-en-el-comercio-electronico/
LOCATION:VALLADOLID
ATTACH;FMTTYPE=image/jpeg:https://castillayleon.adicae.es/wp-content/uploads/2025/11/TALLERES-FORMATIVOS-IA-COMERCIO_CYL_28_Noviembre-1.jpg
END:VEVENT
END:VCALENDAR