BEGIN:VCALENDAR
VERSION:2.0
PRODID:-//ADICAE Castilla y León - ECPv6.15.20//NONSGML v1.0//EN
CALSCALE:GREGORIAN
METHOD:PUBLISH
X-ORIGINAL-URL:https://castillayleon.adicae.es
X-WR-CALDESC:Eventos para ADICAE Castilla y León
REFRESH-INTERVAL;VALUE=DURATION:PT1H
X-Robots-Tag:noindex
X-PUBLISHED-TTL:PT1H
BEGIN:VTIMEZONE
TZID:Europe/Madrid
BEGIN:DAYLIGHT
TZOFFSETFROM:+0100
TZOFFSETTO:+0200
TZNAME:CEST
DTSTART:20240331T010000
END:DAYLIGHT
BEGIN:STANDARD
TZOFFSETFROM:+0200
TZOFFSETTO:+0100
TZNAME:CET
DTSTART:20241027T010000
END:STANDARD
BEGIN:DAYLIGHT
TZOFFSETFROM:+0100
TZOFFSETTO:+0200
TZNAME:CEST
DTSTART:20250330T010000
END:DAYLIGHT
BEGIN:STANDARD
TZOFFSETFROM:+0200
TZOFFSETTO:+0100
TZNAME:CET
DTSTART:20251026T010000
END:STANDARD
BEGIN:DAYLIGHT
TZOFFSETFROM:+0100
TZOFFSETTO:+0200
TZNAME:CEST
DTSTART:20260329T010000
END:DAYLIGHT
BEGIN:STANDARD
TZOFFSETFROM:+0200
TZOFFSETTO:+0100
TZNAME:CET
DTSTART:20261025T010000
END:STANDARD
END:VTIMEZONE
BEGIN:VEVENT
DTSTART;VALUE=DATE:20251006
DTEND;VALUE=DATE:20251007
DTSTAMP:20260423T143405
CREATED:20251003T111023Z
LAST-MODIFIED:20251003T111023Z
UID:1057-1759708800-1759795199@castillayleon.adicae.es
SUMMARY:DÍA DE LA EDUCACIÓN FINANCIERA EN ADICAE CASTILLA Y LEÓN
DESCRIPTION:
URL:https://castillayleon.adicae.es/actividad/dia-de-la-educacion-financiera-en-adicae-castilla-y-leon/
LOCATION:VALLADOLID
ATTACH;FMTTYPE=image/jpeg:https://castillayleon.adicae.es/wp-content/uploads/2025/10/CARTEL-EDUCACION-FINANCIERA-2025-2.jpg
END:VEVENT
BEGIN:VEVENT
DTSTART;TZID=Europe/Madrid:20251020T173000
DTEND;TZID=Europe/Madrid:20251020T190000
DTSTAMP:20260423T143405
CREATED:20251003T101147Z
LAST-MODIFIED:20251003T101417Z
UID:1032-1760981400-1760986800@castillayleon.adicae.es
SUMMARY:APRENDE A USAR TU TELÉFONO MÓVIL
DESCRIPTION:Queridos socios/as: \nSabemos que la tecnología avanza muy rápido… pero también sabemos que nunca es tarde para aprender.Y más aún cuando se trata de algo que puede hacerte la vida más fácil. \nPor eso\, desde ADICAE retomamos nuestros talleres de alfabetización digital para móvil\, el lunes 20 de octubre\, donde aprenderás paso a paso y sin agobios a usar tu teléfono de forma sencilla\, práctica y segura. \n\n¿Te suena alguna de estas frases?\n\n“Tengo móvil\, pero no me aclaro mucho con él…”\n“No me atrevo a tocar cosas por si lo estropeo”\n“Quiero hacer más cosas\, pero no sé por dónde empezar”\n\n¡Entonces este taller es para ti!No importa si sabes poco o nada. Estaremos a tu lado para que ganes confianza y autonomía en el uso de tu móvil. \n¿Qué aprenderás?\n✔ A moverte con soltura por el móvil✔ A hacer fotos\, videollamadas y enviar mensajes✔ A buscar información útil en internet✔ A identificar fraudes y proteger tus datos✔ A usar apps prácticas (salud\, administración\, consumo…) \n¿Cuándo y dónde?\n📅Todos los lunes a las\n17:30 H -19:00 H \n📍Presencial en la sede de ADICAE Castilla y León💰 Taller GRATUITO \nSerá un espacio tranquilo\, paso a paso\, con acompañamiento personalizado y sin necesidad de tener conocimientos previos. Además\, compartirás la experiencia con otras personas socias con tus mismas inquietudes. \nDa el paso\, que nosotros te acompañamos. \nTu móvil puede ser tu gran aliado. \n¡TE INVITAMOS A VISITARNOS!
URL:https://castillayleon.adicae.es/actividad/aprende-a-usar-tu-telefono-movil/
LOCATION:Sede ADICAE Castilla y León\, Calle General Ruiz\, 2 (Pasaje de la Marquesina)\, Local 12\, Valladolid\, VALLADOLID\, 47004\, España
ATTACH;FMTTYPE=image/png:https://castillayleon.adicae.es/wp-content/uploads/2025/10/a3689d34-d26b-d697-f658-82bf6122b8a9.png
END:VEVENT
BEGIN:VEVENT
DTSTART;TZID=Europe/Madrid:20251027T173000
DTEND;TZID=Europe/Madrid:20251027T183000
DTSTAMP:20260423T143405
CREATED:20251003T101924Z
LAST-MODIFIED:20251003T101924Z
UID:1037-1761586200-1761589800@castillayleon.adicae.es
SUMMARY:APRENDE A USAR TU MÓVIL
DESCRIPTION:Queridos socios/as: \nSabemos que la tecnología avanza muy rápido… pero también sabemos que nunca es tarde para aprender.Y más aún cuando se trata de algo que puede hacerte la vida más fácil. \nPor eso\, desde ADICAE retomamos nuestros talleres de alfabetización digital para móvil\, el lunes 20 de octubre\, donde aprenderás paso a paso y sin agobios a usar tu teléfono de forma sencilla\, práctica y segura. \n\n¿Te suena alguna de estas frases?\n\n“Tengo móvil\, pero no me aclaro mucho con él…”\n“No me atrevo a tocar cosas por si lo estropeo”\n“Quiero hacer más cosas\, pero no sé por dónde empezar”\n\n¡Entonces este taller es para ti!No importa si sabes poco o nada. Estaremos a tu lado para que ganes confianza y autonomía en el uso de tu móvil. \n¿Qué aprenderás?\n✔ A moverte con soltura por el móvil✔ A hacer fotos\, videollamadas y enviar mensajes✔ A buscar información útil en internet✔ A identificar fraudes y proteger tus datos✔ A usar apps prácticas (salud\, administración\, consumo…) \n¿Cuándo y dónde?\n📅Todos los lunes a las\n17:30 H -19:00 H \n📍Presencial en la sede de ADICAE Castilla y León💰 Taller GRATUITO \nSerá un espacio tranquilo\, paso a paso\, con acompañamiento personalizado y sin necesidad de tener conocimientos previos. Además\, compartirás la experiencia con otras personas socias con tus mismas inquietudes. \nDa el paso\, que nosotros te acompañamos. \nTu móvil puede ser tu gran aliado. \n¡TE INVITAMOS A VISITARNOS!
URL:https://castillayleon.adicae.es/actividad/aprende-a-usar-tu-movil/
LOCATION:Sede ADICAE Castilla y León\, Calle General Ruiz\, 2 (Pasaje de la Marquesina)\, Local 12\, Valladolid\, VALLADOLID\, 47004\, España
ATTACH;FMTTYPE=image/png:https://castillayleon.adicae.es/wp-content/uploads/2025/10/a3689d34-d26b-d697-f658-82bf6122b8a9.png
END:VEVENT
BEGIN:VEVENT
DTSTART;TZID=Europe/Madrid:20251030T170000
DTEND;TZID=Europe/Madrid:20251030T190000
DTSTAMP:20260423T143405
CREATED:20251029T113737Z
LAST-MODIFIED:20251029T155118Z
UID:1070-1761843600-1761850800@castillayleon.adicae.es
SUMMARY:TALLER FORMATIVO: "AHORRA CON SENTIDO: Finanzas personales y rentabilidad en productos de ahorro\, claves para tu bienestar financiero"
DESCRIPTION:El 31 de Octubre se celebra el día mundial del ahorro\, pero; ¿Sabemos qué es el ahorro? ¿Conocemos la diferencia entre ahorro e inversión? \nEn este taller conoceremos la diferencia entre ambos\, descubriremos que productos financieros de ahorro hay\, cuáles se ajustan a nuestro perfil financiero y aprenderemos a elaborar un presupuesto personal con para obtener estabilidad financiera. \nPor eso\, te invitamos a participar en nuestro próximo taller formativo sobre el ahorro\, donde abordaremos de forma clara y práctica: \n🔍 Qué es el ahorro y cuál es la diferencia entre ahorro e inversión📉 Cómo realizar un presupuesto acorde a nuestro perfil financiero🛡️ Qué productos de ahorro hay y cómo entender la letra pequeña de los productos financieros \nEsta sesión está diseñada para que puedas reconocer que producto de ahorro te conviene y tomar decisiones informadas que protejan tu bolsillo. \nLa participación es gratuita\, ¡Inscríbete cuanto antes! \n¿Cómo puedo acudir a la sesión? \nPresencialmente (confirmación previa de asistencia para preparar la sala de conferencias): en la sede de Adicae CyL (Calle General Ruiz\, 2\, Pasaje de la Marquesina\, Local 12). 47004 Valladolid \nVideoconferencia: https://us02web.zoom.us/meeting/register/a0iuTGFVTLSR6sur26yPVA \n¡Te esperamos!
URL:https://castillayleon.adicae.es/actividad/taller-formativo-ahorra-con-sentido-finanzas-personas-y-rentabilidad-en-productos-de-ahorro-claves-para-tu-bienestar-financiero/
LOCATION:Sede ADICAE Castilla y León\, Calle General Ruiz\, 2 (Pasaje de la Marquesina)\, Local 12\, Valladolid\, VALLADOLID\, 47004\, España
ATTACH;FMTTYPE=image/png:https://castillayleon.adicae.es/wp-content/uploads/2025/10/ChatGPT-Image-29-oct-2025-12_34_23.png
END:VEVENT
END:VCALENDAR