BEGIN:VCALENDAR
VERSION:2.0
PRODID:-//ADICAE Castilla y León - ECPv6.15.20//NONSGML v1.0//EN
CALSCALE:GREGORIAN
METHOD:PUBLISH
X-ORIGINAL-URL:https://castillayleon.adicae.es
X-WR-CALDESC:Eventos para ADICAE Castilla y León
REFRESH-INTERVAL;VALUE=DURATION:PT1H
X-Robots-Tag:noindex
X-PUBLISHED-TTL:PT1H
BEGIN:VTIMEZONE
TZID:Europe/Madrid
BEGIN:DAYLIGHT
TZOFFSETFROM:+0100
TZOFFSETTO:+0200
TZNAME:CEST
DTSTART:20240331T010000
END:DAYLIGHT
BEGIN:STANDARD
TZOFFSETFROM:+0200
TZOFFSETTO:+0100
TZNAME:CET
DTSTART:20241027T010000
END:STANDARD
BEGIN:DAYLIGHT
TZOFFSETFROM:+0100
TZOFFSETTO:+0200
TZNAME:CEST
DTSTART:20250330T010000
END:DAYLIGHT
BEGIN:STANDARD
TZOFFSETFROM:+0200
TZOFFSETTO:+0100
TZNAME:CET
DTSTART:20251026T010000
END:STANDARD
BEGIN:DAYLIGHT
TZOFFSETFROM:+0100
TZOFFSETTO:+0200
TZNAME:CEST
DTSTART:20260329T010000
END:DAYLIGHT
BEGIN:STANDARD
TZOFFSETFROM:+0200
TZOFFSETTO:+0100
TZNAME:CET
DTSTART:20261025T010000
END:STANDARD
END:VTIMEZONE
BEGIN:VEVENT
DTSTART;TZID=Europe/Madrid:20250922T110000
DTEND;TZID=Europe/Madrid:20250922T130000
DTSTAMP:20260423T131948
CREATED:20250916T095638Z
LAST-MODIFIED:20250916T095638Z
UID:1012-1758538800-1758546000@castillayleon.adicae.es
SUMMARY:CICLO SESIONES FORMATIVAS SOBRE VIVIENDA - EL ACCESO A LA VIVIENDA
DESCRIPTION:Desde ADICAE Castilla y León y en colaboración con la Consejería de Industria\, Comercio y Empleo de la Junta de Castilla y León\, hemos organizado unos talleres formativos específicos de un tema de gran actualidad: LA VIVIENDA Y LOS DERECHOS DE LOS CONSUMIDORES\, en los que trataremos diversos aspectos relacionados con el mercado inmobiliario\, las hipotecas\, el proceso de compra\, la documentación que necesitamos\, nuestros derechos como inquilinos\, pago de impuestos\, seguros de impago de alquiler\, y un largo etcétera de aspectos que consideramos de interés. \nPara ello vamos a celebrar 4 sesiones informativas GRATUITAS\, abiertas a todos los consumidores y en formato tanto PRESENCIAL en nuestra sede como ONLINE a través del programa ZOOM. Las fechas y horarios de cada una de esta sesiones son: \nLUNES\, 22 DE SEPTIEMBRE\, 11:00 H: El acceso a la vivienda. Situación del mercado inmobiliario en España. ¿Compro o alquilo? Analizará la evolución reciente y perspectivas del mercado inmobiliario. El análisis económico de las ventajas y desventajas de la compra frente al alquiler de vivienda. \nONLINE: https://us02web.zoom.us/meeting/register/CJGqhN2SSoiIpgt1EqMVkQ \nMARTES\, 23 DE SEPTIEMBRE\, 11:00 H: Derechos de los consumidores en préstamos hipotecarios. Tipo fijo o variable. Hipoteca online o presencial Se analizarán los conceptos básicos del préstamo hipotecario\, y la prevención ante cláusulas abusivas. La comparación económica y análisis de la elección entre tipos de interés fijo\, variable y mixto\, y la diferencia de información y tratamiento en la contratación de la hipoteca de forma presencial o por internet. \nONLINE: https://us02web.zoom.us/meeting/register/vt-Bf2LIRl-lmbs3zvFREA \nLUNES\, 29 DE SEPTIEMBRE\, 11:00 H: Derechos del consumidor en la compra de vivienda. Información básica. Documentación\, contrato de compra y contrato de arras. Gastos y comisiones en la adquisición de la vivienda (notaría\, registro\, inmobiliaria\, etc.). Tratamiento fiscal. Presupuesto y valorar el precio de la vivienda. Como elegir que casa comprar. Mejor primera o segunda mano. \nONLINE: https://us02web.zoom.us/meeting/register/PGcFZxprTFuTEchVvokuAg \nMARTES\, 30 DE SEPTIEMBRE\, 11:00 H: Derechos del consumidor en el alquiler de vivienda. Novedades legislativas. Se analizarán los derechos del arrendatario\, incluyendo las novedades de 12/2023 del derecho a la vivienda. Cláusulas abusivas y gastos en el contrato de arrendamiento. Vencimiento y prórrogas en los contratos. Se analizarán los derechos ante el desahucio. Duración de los contratos según la fecha de contratación. \nONLINE: https://us02web.zoom.us/meeting/register/AnOf79KPT5WaYWZ5spCgWA \nPara acudir presencialmente\, nos encontrarás en:\nCALLE GENERAL RUIZ\, 2 (Pasaje de la Marquesina\, Local 12)\n47004 VALLADOLID (VALLADOLID) \n¡Te esperamos!
URL:https://castillayleon.adicae.es/actividad/ciclo-sesiones-formativas-sobre-vivienda-el-acceso-a-la-vivienda/
LOCATION:Sede ADICAE Castilla y León\, Calle General Ruiz\, 2 (Pasaje de la Marquesina)\, Local 12\, Valladolid\, VALLADOLID\, 47004\, España
ATTACH;FMTTYPE=image/jpeg:https://castillayleon.adicae.es/wp-content/uploads/2025/09/PROYECTO-VIVIENDA-CYL2.jpg
END:VEVENT
BEGIN:VEVENT
DTSTART;TZID=Europe/Madrid:20250923T110000
DTEND;TZID=Europe/Madrid:20250923T130000
DTSTAMP:20260423T131948
CREATED:20250916T100457Z
LAST-MODIFIED:20250916T100457Z
UID:1015-1758625200-1758632400@castillayleon.adicae.es
SUMMARY:CICLO DE SESIONES FORMATIVAS SOBRE VIVIENDA - DERECHOS DE LOS CONSUMIDORES EN PRÉSTAMOS HIPOTECARIOS
DESCRIPTION:Desde ADICAE Castilla y León y en colaboración con la Consejería de Industria\, Comercio y Empleo de la Junta de Castilla y León\, hemos organizado unos talleres formativos específicos de un tema de gran actualidad: LA VIVIENDA Y LOS DERECHOS DE LOS CONSUMIDORES\, en los que trataremos diversos aspectos relacionados con el mercado inmobiliario\, las hipotecas\, el proceso de compra\, la documentación que necesitamos\, nuestros derechos como inquilinos\, pago de impuestos\, seguros de impago de alquiler\, y un largo etcétera de aspectos que consideramos de interés. \nPara ello vamos a celebrar 4 sesiones informativas GRATUITAS\, abiertas a todos los consumidores y en formato tanto PRESENCIAL en nuestra sede como ONLINE a través del programa ZOOM. Las fechas y horarios de cada una de esta sesiones son: \nLUNES\, 22 DE SEPTIEMBRE\, 11:00 H: El acceso a la vivienda. Situación del mercado inmobiliario en España. ¿Compro o alquilo? Analizará la evolución reciente y perspectivas del mercado inmobiliario. El análisis económico de las ventajas y desventajas de la compra frente al alquiler de vivienda. \nONLINE: https://us02web.zoom.us/meeting/register/CJGqhN2SSoiIpgt1EqMVkQ \nMARTES\, 23 DE SEPTIEMBRE\, 11:00 H: Derechos de los consumidores en préstamos hipotecarios. Tipo fijo o variable. Hipoteca online o presencial Se analizarán los conceptos básicos del préstamo hipotecario\, y la prevención ante cláusulas abusivas. La comparación económica y análisis de la elección entre tipos de interés fijo\, variable y mixto\, y la diferencia de información y tratamiento en la contratación de la hipoteca de forma presencial o por internet. \nONLINE: https://us02web.zoom.us/meeting/register/vt-Bf2LIRl-lmbs3zvFREA \nLUNES\, 29 DE SEPTIEMBRE\, 11:00 H: Derechos del consumidor en la compra de vivienda. Información básica. Documentación\, contrato de compra y contrato de arras. Gastos y comisiones en la adquisición de la vivienda (notaría\, registro\, inmobiliaria\, etc.). Tratamiento fiscal. Presupuesto y valorar el precio de la vivienda. Como elegir que casa comprar. Mejor primera o segunda mano. \nONLINE: https://us02web.zoom.us/meeting/register/PGcFZxprTFuTEchVvokuAg \nMARTES\, 30 DE SEPTIEMBRE\, 11:00 H: Derechos del consumidor en el alquiler de vivienda. Novedades legislativas. Se analizarán los derechos del arrendatario\, incluyendo las novedades de 12/2023 del derecho a la vivienda. Cláusulas abusivas y gastos en el contrato de arrendamiento. Vencimiento y prórrogas en los contratos. Se analizarán los derechos ante el desahucio. Duración de los contratos según la fecha de contratación. \nONLINE: https://us02web.zoom.us/meeting/register/AnOf79KPT5WaYWZ5spCgWA \nPara acudir presencialmente\, nos encontrarás en:\nCALLE GENERAL RUIZ\, 2 (Pasaje de la Marquesina\, Local 12)\n47004 VALLADOLID (VALLADOLID) \n¡Te esperamos!
URL:https://castillayleon.adicae.es/actividad/ciclo-de-sesiones-formativas-sobre-vivienda-derechos-de-los-consumidores-en-prestamos-hipotecarios/
LOCATION:Sede ADICAE Castilla y León\, Calle General Ruiz\, 2 (Pasaje de la Marquesina)\, Local 12\, Valladolid\, VALLADOLID\, 47004\, España
ATTACH;FMTTYPE=image/jpeg:https://castillayleon.adicae.es/wp-content/uploads/2025/09/PROYECTO-VIVIENDA-CYL3.jpg
END:VEVENT
BEGIN:VEVENT
DTSTART;TZID=Europe/Madrid:20250929T110000
DTEND;TZID=Europe/Madrid:20250929T130000
DTSTAMP:20260423T131948
CREATED:20250916T100618Z
LAST-MODIFIED:20250916T100618Z
UID:1018-1759143600-1759150800@castillayleon.adicae.es
SUMMARY:CICLO DE SESIONES FORMATIVAS SOBRE VIVIENDA - DERECHOS DEL CONSUMIDOR EN LA COMPRA DE VIVIENDA
DESCRIPTION:Desde ADICAE Castilla y León y en colaboración con la Consejería de Industria\, Comercio y Empleo de la Junta de Castilla y León\, hemos organizado unos talleres formativos específicos de un tema de gran actualidad: LA VIVIENDA Y LOS DERECHOS DE LOS CONSUMIDORES\, en los que trataremos diversos aspectos relacionados con el mercado inmobiliario\, las hipotecas\, el proceso de compra\, la documentación que necesitamos\, nuestros derechos como inquilinos\, pago de impuestos\, seguros de impago de alquiler\, y un largo etcétera de aspectos que consideramos de interés. \nPara ello vamos a celebrar 4 sesiones informativas GRATUITAS\, abiertas a todos los consumidores y en formato tanto PRESENCIAL en nuestra sede como ONLINE a través del programa ZOOM. Las fechas y horarios de cada una de esta sesiones son: \nLUNES\, 22 DE SEPTIEMBRE\, 11:00 H: El acceso a la vivienda. Situación del mercado inmobiliario en España. ¿Compro o alquilo? Analizará la evolución reciente y perspectivas del mercado inmobiliario. El análisis económico de las ventajas y desventajas de la compra frente al alquiler de vivienda. \nONLINE: https://us02web.zoom.us/meeting/register/CJGqhN2SSoiIpgt1EqMVkQ \nMARTES\, 23 DE SEPTIEMBRE\, 11:00 H: Derechos de los consumidores en préstamos hipotecarios. Tipo fijo o variable. Hipoteca online o presencial Se analizarán los conceptos básicos del préstamo hipotecario\, y la prevención ante cláusulas abusivas. La comparación económica y análisis de la elección entre tipos de interés fijo\, variable y mixto\, y la diferencia de información y tratamiento en la contratación de la hipoteca de forma presencial o por internet. \nONLINE: https://us02web.zoom.us/meeting/register/vt-Bf2LIRl-lmbs3zvFREA \nLUNES\, 29 DE SEPTIEMBRE\, 11:00 H: Derechos del consumidor en la compra de vivienda. Información básica. Documentación\, contrato de compra y contrato de arras. Gastos y comisiones en la adquisición de la vivienda (notaría\, registro\, inmobiliaria\, etc.). Tratamiento fiscal. Presupuesto y valorar el precio de la vivienda. Como elegir que casa comprar. Mejor primera o segunda mano. \nONLINE: https://us02web.zoom.us/meeting/register/PGcFZxprTFuTEchVvokuAg \nMARTES\, 30 DE SEPTIEMBRE\, 11:00 H: Derechos del consumidor en el alquiler de vivienda. Novedades legislativas. Se analizarán los derechos del arrendatario\, incluyendo las novedades de 12/2023 del derecho a la vivienda. Cláusulas abusivas y gastos en el contrato de arrendamiento. Vencimiento y prórrogas en los contratos. Se analizarán los derechos ante el desahucio. Duración de los contratos según la fecha de contratación. \nONLINE: https://us02web.zoom.us/meeting/register/AnOf79KPT5WaYWZ5spCgWA \nPara acudir presencialmente\, nos encontrarás en:\nCALLE GENERAL RUIZ\, 2 (Pasaje de la Marquesina\, Local 12)\n47004 VALLADOLID (VALLADOLID) \n¡Te esperamos!
URL:https://castillayleon.adicae.es/actividad/ciclo-de-sesiones-formativas-sobre-vivienda-derechos-del-consumidor-en-la-compra-de-vivienda/
LOCATION:Sede ADICAE Castilla y León\, Calle General Ruiz\, 2 (Pasaje de la Marquesina)\, Local 12\, Valladolid\, VALLADOLID\, 47004\, España
ATTACH;FMTTYPE=image/jpeg:https://castillayleon.adicae.es/wp-content/uploads/2025/09/PROYECTO-VIVIENDA-CYL4.jpg
END:VEVENT
BEGIN:VEVENT
DTSTART;TZID=Europe/Madrid:20250930T110000
DTEND;TZID=Europe/Madrid:20250930T130000
DTSTAMP:20260423T131948
CREATED:20250916T100734Z
LAST-MODIFIED:20250916T100734Z
UID:1022-1759230000-1759237200@castillayleon.adicae.es
SUMMARY:CICLO SESIONES FORMATIVAS SOBRE VIVIENDA - DERECHOS DEL CONSUMIDOR EN EL ALQUILER DE VIVIENDA
DESCRIPTION:Desde ADICAE Castilla y León y en colaboración con la Consejería de Industria\, Comercio y Empleo de la Junta de Castilla y León\, hemos organizado unos talleres formativos específicos de un tema de gran actualidad: LA VIVIENDA Y LOS DERECHOS DE LOS CONSUMIDORES\, en los que trataremos diversos aspectos relacionados con el mercado inmobiliario\, las hipotecas\, el proceso de compra\, la documentación que necesitamos\, nuestros derechos como inquilinos\, pago de impuestos\, seguros de impago de alquiler\, y un largo etcétera de aspectos que consideramos de interés. \nPara ello vamos a celebrar 4 sesiones informativas GRATUITAS\, abiertas a todos los consumidores y en formato tanto PRESENCIAL en nuestra sede como ONLINE a través del programa ZOOM. Las fechas y horarios de cada una de esta sesiones son: \nLUNES\, 22 DE SEPTIEMBRE\, 11:00 H: El acceso a la vivienda. Situación del mercado inmobiliario en España. ¿Compro o alquilo? Analizará la evolución reciente y perspectivas del mercado inmobiliario. El análisis económico de las ventajas y desventajas de la compra frente al alquiler de vivienda. \nONLINE: https://us02web.zoom.us/meeting/register/CJGqhN2SSoiIpgt1EqMVkQ \nMARTES\, 23 DE SEPTIEMBRE\, 11:00 H: Derechos de los consumidores en préstamos hipotecarios. Tipo fijo o variable. Hipoteca online o presencial Se analizarán los conceptos básicos del préstamo hipotecario\, y la prevención ante cláusulas abusivas. La comparación económica y análisis de la elección entre tipos de interés fijo\, variable y mixto\, y la diferencia de información y tratamiento en la contratación de la hipoteca de forma presencial o por internet. \nONLINE: https://us02web.zoom.us/meeting/register/vt-Bf2LIRl-lmbs3zvFREA \nLUNES\, 29 DE SEPTIEMBRE\, 11:00 H: Derechos del consumidor en la compra de vivienda. Información básica. Documentación\, contrato de compra y contrato de arras. Gastos y comisiones en la adquisición de la vivienda (notaría\, registro\, inmobiliaria\, etc.). Tratamiento fiscal. Presupuesto y valorar el precio de la vivienda. Como elegir que casa comprar. Mejor primera o segunda mano. \nONLINE: https://us02web.zoom.us/meeting/register/PGcFZxprTFuTEchVvokuAg \nMARTES\, 30 DE SEPTIEMBRE\, 11:00 H: Derechos del consumidor en el alquiler de vivienda. Novedades legislativas. Se analizarán los derechos del arrendatario\, incluyendo las novedades de 12/2023 del derecho a la vivienda. Cláusulas abusivas y gastos en el contrato de arrendamiento. Vencimiento y prórrogas en los contratos. Se analizarán los derechos ante el desahucio. Duración de los contratos según la fecha de contratación. \nONLINE: https://us02web.zoom.us/meeting/register/AnOf79KPT5WaYWZ5spCgWA \nPara acudir presencialmente\, nos encontrarás en:\nCALLE GENERAL RUIZ\, 2 (Pasaje de la Marquesina\, Local 12)\n47004 VALLADOLID (VALLADOLID) \n¡Te esperamos!
URL:https://castillayleon.adicae.es/actividad/ciclo-sesiones-formativas-sobre-vivienda-derechos-del-consumidor-en-el-alquiler-de-vivienda/
LOCATION:Sede ADICAE Castilla y León\, Calle General Ruiz\, 2 (Pasaje de la Marquesina)\, Local 12\, Valladolid\, VALLADOLID\, 47004\, España
ATTACH;FMTTYPE=image/jpeg:https://castillayleon.adicae.es/wp-content/uploads/2025/09/PROYECTO-VIVIENDA-CYL5.jpg
END:VEVENT
END:VCALENDAR