BEGIN:VCALENDAR
VERSION:2.0
PRODID:-//ADICAE Castilla y León - ECPv6.15.20//NONSGML v1.0//EN
CALSCALE:GREGORIAN
METHOD:PUBLISH
X-ORIGINAL-URL:https://castillayleon.adicae.es
X-WR-CALDESC:Eventos para ADICAE Castilla y León
REFRESH-INTERVAL;VALUE=DURATION:PT1H
X-Robots-Tag:noindex
X-PUBLISHED-TTL:PT1H
BEGIN:VTIMEZONE
TZID:Europe/Madrid
BEGIN:DAYLIGHT
TZOFFSETFROM:+0100
TZOFFSETTO:+0200
TZNAME:CEST
DTSTART:20240331T010000
END:DAYLIGHT
BEGIN:STANDARD
TZOFFSETFROM:+0200
TZOFFSETTO:+0100
TZNAME:CET
DTSTART:20241027T010000
END:STANDARD
BEGIN:DAYLIGHT
TZOFFSETFROM:+0100
TZOFFSETTO:+0200
TZNAME:CEST
DTSTART:20250330T010000
END:DAYLIGHT
BEGIN:STANDARD
TZOFFSETFROM:+0200
TZOFFSETTO:+0100
TZNAME:CET
DTSTART:20251026T010000
END:STANDARD
BEGIN:DAYLIGHT
TZOFFSETFROM:+0100
TZOFFSETTO:+0200
TZNAME:CEST
DTSTART:20260329T010000
END:DAYLIGHT
BEGIN:STANDARD
TZOFFSETFROM:+0200
TZOFFSETTO:+0100
TZNAME:CET
DTSTART:20261025T010000
END:STANDARD
END:VTIMEZONE
BEGIN:VEVENT
DTSTART;TZID=Europe/Madrid:20250506T173000
DTEND;TZID=Europe/Madrid:20250506T190000
DTSTAMP:20260421T104122
CREATED:20250430T105537Z
LAST-MODIFIED:20250430T110052Z
UID:886-1746552600-1746558000@castillayleon.adicae.es
SUMMARY:TALLERES DE APRENDIZAJE DE USO DEL SMARTPHONE
DESCRIPTION:Sabemos que la tecnología avanza muy rápido… pero también sabemos que nunca es tarde para aprender.\nY más aún cuando se trata de algo que puede hacerte la vida más fácil. \nPor eso\, desde ADICAE retomamos nuestros talleres de alfabetización digital para móvil\, donde aprenderás\, paso a paso y sin agobios\, a usar tu teléfono de forma sencilla\, práctica y segura. \n¿Te suena alguna de estas frases?\n\n“Tengo móvil\, pero no me aclaro mucho con él…”\n“No me atrevo a tocar cosas por si lo estropeo”\n“Quiero hacer más cosas\, pero no sé por dónde empezar”\n\nEntonces este taller es para ti.\nNo importa si sabes poco o nada. Estaremos a tu lado para que ganes confianza y autonomía en el uso de tu móvil. \n¿Qué aprenderás?\n✔ A moverte con soltura por el móvil\n✔ A hacer fotos\, videollamadas y enviar mensajes\n✔ A buscar información útil en internet\n✔ A identificar fraudes y proteger tus datos\n✔ A usar apps prácticas (salud\, administración\, consumo…) \n¿Cuándo y dónde?\n📅 Lunes taller de alfabetización básico     📅 Martes taller de alfabetización avanzado\n17:30H \n📍Presencial en la sede de ADICAE Valladolid\n💰 Taller gratuito  \nSerá un espacio tranquilo\, paso a paso\, con acompañamiento personalizado y sin necesidad de tener conocimientos previos. Además\, compartirás la experiencia con otras personas socias con tus mismas inquietudes. \nDa el paso\, que nosotros te acompañamos. \nTu móvil puede ser tu gran aliado. \n¡TE INVITAMOS A VISITARNOS!
URL:https://castillayleon.adicae.es/actividad/talleres-de-aprendizaje-de-uso-del-smartphone-5/
LOCATION:Sede ADICAE Castilla y León\, Calle General Ruiz\, 2 (Pasaje de la Marquesina)\, Local 12\, Valladolid\, VALLADOLID\, 47004\, España
ATTACH;FMTTYPE=image/png:https://castillayleon.adicae.es/wp-content/uploads/2025/04/a3689d34-d26b-d697-f658-82bf6122b8a9.png
END:VEVENT
BEGIN:VEVENT
DTSTART;TZID=Europe/Madrid:20250515T180000
DTEND;TZID=Europe/Madrid:20250515T200000
DTSTAMP:20260421T104122
CREATED:20250506T115609Z
LAST-MODIFIED:20250506T115609Z
UID:904-1747332000-1747339200@castillayleon.adicae.es
SUMMARY:DERECHOS DE LOS CONSUMIDORES AFECTADOS POR EL "APAGÓN" ELÉCTRICO DEL 28 DE ABRIL
DESCRIPTION:¿Qué derechos tenemos los consumídores por el perjuicio que nos ha originado el masivo apagón que hemos sufrido el pasado 28 de abril? \nEl pasado 28 de abril muchos consumidores (todos en realidad)\, sufrimos las consecuencias del masivo apagón eléctrico que se produjo en nuestro país. Transportes paralizados\, comunicaciones inexistentes\, viajes cancelados\, electrodomésticos y comida estropeada\, y un largo etcétera de problemas que necesitan una reparación. Pero para ello\, lo primero que hay que hacer es buscar las causas y los culpables de dicho apagón. \n¿Y qué puede hacer el consumidor? \nDependiendo del daño sufrido\, y para empezar\, podemos ir recabando pruebas o solicitando reembolsos. Las compañías de transportes deben ofrecer unos servicios a los viajeros que dejan en tierra o que ven aplazado su viaje\, las aseguradoras tienen que compensar los siniestros de sus asegurados\, el papel del Consorcio de Compensación de Seguros aún está por delimitar… \nEn este taller explicaremos las causas más frecuentes de reclamación\, los derechos que amparan a los consumidores en cada caso\, plazos de reclamación\, cómo efectuar dichas reclamaciones y a quién dirigirlas y qué podemos esperar de las investigaciones que actualmente se están realizando para determinar el causante del siniestro que dejó sin luz a toda España. \n¿Cómo puedo acudir a la sesión? \nPresencialmente: en la sede de Adicae CyL (Calle General Ruiz\, 2\, Pasaje de la Marquesina\, Local 12). 47004 Valladolid \nVideoconferencia: inscribiéndote AQUÍ
URL:https://castillayleon.adicae.es/actividad/derechos-de-los-consumidores-afectados-por-el-apagon-electrico-del-28-de-abril/
LOCATION:Sede ADICAE Castilla y León\, Calle General Ruiz\, 2 (Pasaje de la Marquesina)\, Local 12\, Valladolid\, VALLADOLID\, 47004\, España
ATTACH;FMTTYPE=image/png:https://castillayleon.adicae.es/wp-content/uploads/2025/05/95ad5ae7-39d5-48f8-b2c6-2a319e79366e.png
END:VEVENT
BEGIN:VEVENT
DTSTART;TZID=Europe/Madrid:20250520T173000
DTEND;TZID=Europe/Madrid:20250520T190000
DTSTAMP:20260421T104122
CREATED:20250430T105649Z
LAST-MODIFIED:20250430T110030Z
UID:888-1747762200-1747767600@castillayleon.adicae.es
SUMMARY:TALLERES DE APRENDIZAJE DE USO DEL SMARTPHONE
DESCRIPTION:Sabemos que la tecnología avanza muy rápido… pero también sabemos que nunca es tarde para aprender.\nY más aún cuando se trata de algo que puede hacerte la vida más fácil. \nPor eso\, desde ADICAE retomamos nuestros talleres de alfabetización digital para móvil\, donde aprenderás\, paso a paso y sin agobios\, a usar tu teléfono de forma sencilla\, práctica y segura. \n¿Te suena alguna de estas frases?\n\n“Tengo móvil\, pero no me aclaro mucho con él…”\n“No me atrevo a tocar cosas por si lo estropeo”\n“Quiero hacer más cosas\, pero no sé por dónde empezar”\n\nEntonces este taller es para ti.\nNo importa si sabes poco o nada. Estaremos a tu lado para que ganes confianza y autonomía en el uso de tu móvil. \n¿Qué aprenderás?\n✔ A moverte con soltura por el móvil\n✔ A hacer fotos\, videollamadas y enviar mensajes\n✔ A buscar información útil en internet\n✔ A identificar fraudes y proteger tus datos\n✔ A usar apps prácticas (salud\, administración\, consumo…) \n¿Cuándo y dónde?\n📅 Lunes taller de alfabetización básico     📅 Martes taller de alfabetización avanzado\n17:30H \n📍Presencial en la sede de ADICAE Valladolid\n💰 Taller gratuito  \nSerá un espacio tranquilo\, paso a paso\, con acompañamiento personalizado y sin necesidad de tener conocimientos previos. Además\, compartirás la experiencia con otras personas socias con tus mismas inquietudes. \nDa el paso\, que nosotros te acompañamos. \nTu móvil puede ser tu gran aliado. \n¡TE INVITAMOS A VISITARNOS!
URL:https://castillayleon.adicae.es/actividad/talleres-de-aprendizaje-de-uso-del-smartphone-6/
LOCATION:Sede ADICAE Castilla y León\, Calle General Ruiz\, 2 (Pasaje de la Marquesina)\, Local 12\, Valladolid\, VALLADOLID\, 47004\, España
ATTACH;FMTTYPE=image/png:https://castillayleon.adicae.es/wp-content/uploads/2025/04/a3689d34-d26b-d697-f658-82bf6122b8a9.png
END:VEVENT
BEGIN:VEVENT
DTSTART;TZID=Europe/Madrid:20250521T180000
DTEND;TZID=Europe/Madrid:20250521T200000
DTSTAMP:20260421T104122
CREATED:20250516T093318Z
LAST-MODIFIED:20250516T093318Z
UID:919-1747850400-1747857600@castillayleon.adicae.es
SUMMARY:CÓMO RENTABILIZAR MIS AHORROS EN UNA ÉPOCA DE TIPOS DE INTERÉS A LA BAJA
DESCRIPTION:En una época de tipos de interés a la baja los productos de ahorro pueden perder cierto interés para los pequeños ahorradores. \nAún así\, para los ahorradores más conservadores\, aún quedan alternativas que\, sin demasiado riesgo\, consigan aportar un beneficio a largo plazo de los ahorros acumulados. \nPor ello\, en esta sesión formativa te hablaremos de estos productos con bajo riesgo y para ahorradores conservadores\, que aún mantienen cierta rentabilidad\, sus características\, sus beneficios y sus riesgos. \n¿Cómo puedo acudir a la sesión? \nPresencialmente: en la sede de Adicae CyL (Calle General Ruiz\, 2\, Pasaje de la Marquesina\, Local 12). 47004 Valladolid \nVideoconferencia: inscribiéndote AQUÍ \n¡Te esperamos!
URL:https://castillayleon.adicae.es/actividad/como-rentabilizar-mis-ahorros-en-una-epoca-de-tipos-de-interes-a-la-baja/
LOCATION:Sede ADICAE Castilla y León\, Calle General Ruiz\, 2 (Pasaje de la Marquesina)\, Local 12\, Valladolid\, VALLADOLID\, 47004\, España
ATTACH;FMTTYPE=image/png:https://castillayleon.adicae.es/wp-content/uploads/2025/05/ChatGPT-Image-16-may-2025-11_04_52.png
END:VEVENT
BEGIN:VEVENT
DTSTART;TZID=Europe/Madrid:20250527T173000
DTEND;TZID=Europe/Madrid:20250527T190000
DTSTAMP:20260421T104122
CREATED:20250430T105758Z
LAST-MODIFIED:20250430T105758Z
UID:890-1748367000-1748372400@castillayleon.adicae.es
SUMMARY:TALLERES DE APRENDIZAJE DE USO DEL SMARTPHONE
DESCRIPTION:Sabemos que la tecnología avanza muy rápido… pero también sabemos que nunca es tarde para aprender.\nY más aún cuando se trata de algo que puede hacerte la vida más fácil. \nPor eso\, desde ADICAE retomamos nuestros talleres de alfabetización digital para móvil\, donde aprenderás\, paso a paso y sin agobios\, a usar tu teléfono de forma sencilla\, práctica y segura. \n¿Te suena alguna de estas frases?\n\n“Tengo móvil\, pero no me aclaro mucho con él…”\n“No me atrevo a tocar cosas por si lo estropeo”\n“Quiero hacer más cosas\, pero no sé por dónde empezar”\n\nEntonces este taller es para ti.\nNo importa si sabes poco o nada. Estaremos a tu lado para que ganes confianza y autonomía en el uso de tu móvil. \n¿Qué aprenderás?\n✔ A moverte con soltura por el móvil\n✔ A hacer fotos\, videollamadas y enviar mensajes\n✔ A buscar información útil en internet\n✔ A identificar fraudes y proteger tus datos\n✔ A usar apps prácticas (salud\, administración\, consumo…) \n¿Cuándo y dónde?\n📅 Lunes taller de alfabetización básico     📅 Martes taller de alfabetización avanzado\n17:30H \n📍Presencial en la sede de ADICAE Valladolid\n💰 Taller gratuito  \nSerá un espacio tranquilo\, paso a paso\, con acompañamiento personalizado y sin necesidad de tener conocimientos previos. Además\, compartirás la experiencia con otras personas socias con tus mismas inquietudes. \nDa el paso\, que nosotros te acompañamos. \nTu móvil puede ser tu gran aliado. \n¡TE INVITAMOS A VISITARNOS!
URL:https://castillayleon.adicae.es/actividad/talleres-de-aprendizaje-de-uso-del-smartphone-7/
LOCATION:Sede ADICAE Castilla y León\, Calle General Ruiz\, 2 (Pasaje de la Marquesina)\, Local 12\, Valladolid\, VALLADOLID\, 47004\, España
ATTACH;FMTTYPE=image/png:https://castillayleon.adicae.es/wp-content/uploads/2025/04/a3689d34-d26b-d697-f658-82bf6122b8a9.png
END:VEVENT
BEGIN:VEVENT
DTSTART;TZID=Europe/Madrid:20250528T180000
DTEND;TZID=Europe/Madrid:20250528T200000
DTSTAMP:20260421T104122
CREATED:20250520T094124Z
LAST-MODIFIED:20250520T094124Z
UID:922-1748455200-1748462400@castillayleon.adicae.es
SUMMARY:EURO DIGITAL: CERTEZAS Y BULOS SOBRE LA NUEVA MONEDA DIGITAL EUROPEA
DESCRIPTION:La inminente llegada del euro digital ha generado mucha controversia entre los consumidores: algunos se posicionan a favor porque lo consideran un avance y otros\, en cambio\, lo ven como una manera de control al ciudadano con la consecuente pérdida de libertad. \nA este respecto tenemos muchas certezas al respecto pero también muchos bulos que se han generalizado desde los sectores contrarios a esta iniciativa del BCE: \nEn esta sesión informativa te hablaremos de qué es el euro digital\, qué plazos se manejan para su implantación\, cómo nos va a afectar a los consumidores y desmontaremos muchos de los bulos que han surgido tanto en redes sociales como en medios de comunicación. \n¿Cómo puedo acudir a la sesión? \nPresencialmente: en la sede de Adicae CyL (Calle General Ruiz\, 2\, Pasaje de la Marquesina\, Local 12). 47004 Valladolid \nVideoconferencia: PINCHA AQUÍ \n¡Te esperamos!
URL:https://castillayleon.adicae.es/actividad/euro-digital-certezas-y-bulos-sobre-la-nueva-moneda-digital-europea/
LOCATION:Sede ADICAE Castilla y León\, Calle General Ruiz\, 2 (Pasaje de la Marquesina)\, Local 12\, Valladolid\, VALLADOLID\, 47004\, España
ATTACH;FMTTYPE=image/png:https://castillayleon.adicae.es/wp-content/uploads/2025/05/81db9ad4-4d26-4971-890c-f13903ecedc1.png
END:VEVENT
END:VCALENDAR