BEGIN:VCALENDAR
VERSION:2.0
PRODID:-//ADICAE Castilla y León - ECPv6.15.20//NONSGML v1.0//EN
CALSCALE:GREGORIAN
METHOD:PUBLISH
X-WR-CALNAME:ADICAE Castilla y León
X-ORIGINAL-URL:https://castillayleon.adicae.es
X-WR-CALDESC:Eventos para ADICAE Castilla y León
REFRESH-INTERVAL;VALUE=DURATION:PT1H
X-Robots-Tag:noindex
X-PUBLISHED-TTL:PT1H
BEGIN:VTIMEZONE
TZID:Europe/Madrid
BEGIN:DAYLIGHT
TZOFFSETFROM:+0100
TZOFFSETTO:+0200
TZNAME:CEST
DTSTART:20240331T010000
END:DAYLIGHT
BEGIN:STANDARD
TZOFFSETFROM:+0200
TZOFFSETTO:+0100
TZNAME:CET
DTSTART:20241027T010000
END:STANDARD
BEGIN:DAYLIGHT
TZOFFSETFROM:+0100
TZOFFSETTO:+0200
TZNAME:CEST
DTSTART:20250330T010000
END:DAYLIGHT
BEGIN:STANDARD
TZOFFSETFROM:+0200
TZOFFSETTO:+0100
TZNAME:CET
DTSTART:20251026T010000
END:STANDARD
BEGIN:DAYLIGHT
TZOFFSETFROM:+0100
TZOFFSETTO:+0200
TZNAME:CEST
DTSTART:20260329T010000
END:DAYLIGHT
BEGIN:STANDARD
TZOFFSETFROM:+0200
TZOFFSETTO:+0100
TZNAME:CET
DTSTART:20261025T010000
END:STANDARD
END:VTIMEZONE
BEGIN:VEVENT
DTSTART;TZID=Europe/Madrid:20250407T173000
DTEND;TZID=Europe/Madrid:20250407T190000
DTSTAMP:20260421T120008
CREATED:20250404T110300Z
LAST-MODIFIED:20250404T110313Z
UID:773-1744047000-1744052400@castillayleon.adicae.es
SUMMARY:TALLERES DE APRENDIZAJE AL USO DEL SMARTPHONE
DESCRIPTION:Sabemos que la tecnología avanza muy rápido… pero también sabemos que nunca es tarde para aprender.\nY más aún cuando se trata de algo que puede hacerte la vida más fácil. \nPor eso\, desde ADICAE retomamos nuestros talleres de alfabetización digital para móvil\, donde aprenderás\, paso a paso y sin agobios\, a usar tu teléfono de forma sencilla\, práctica y segura. \n¿Te suena alguna de estas frases?\n\n“Tengo móvil\, pero no me aclaro mucho con él…”\n“No me atrevo a tocar cosas por si lo estropeo”\n“Quiero hacer más cosas\, pero no sé por dónde empezar”\n\nEntonces este taller es para ti.\nNo importa si sabes poco o nada. Estaremos a tu lado para que ganes confianza y autonomía en el uso de tu móvil. \n¿Qué aprenderás?\n✔ A moverte con soltura por el móvil\n✔ A hacer fotos\, videollamadas y enviar mensajes\n✔ A buscar información útil en internet\n✔ A identificar fraudes y proteger tus datos\n✔ A usar apps prácticas (salud\, administración\, consumo…) \n¿Cuándo y dónde?\n            📅 Lunes taller de alfabetización básico     📅 Martes taller de alfabetización avanzado\n17:30H \n📍Presencial en la sede de ADICAE Valladolid\n💰 Taller gratuito  \nSerá un espacio tranquilo\, paso a paso\, con acompañamiento personalizado y sin necesidad de tener conocimientos previos. Además\, compartirás la experiencia con otras personas socias con tus mismas inquietudes. \nDa el paso\, que nosotros te acompañamos. \nTu móvil puede ser tu gran aliado. \n¡TE INVITAMOS A VISITARNOS!
URL:https://castillayleon.adicae.es/actividad/talleres-de-aprendizaje-al-uso-del-smartphone/
LOCATION:Sede ADICAE Castilla y León\, Calle General Ruiz\, 2 (Pasaje de la Marquesina)\, Local 12\, Valladolid\, VALLADOLID\, 47004\, España
ATTACH;FMTTYPE=image/png:https://castillayleon.adicae.es/wp-content/uploads/2025/04/a3689d34-d26b-d697-f658-82bf6122b8a9.png
END:VEVENT
BEGIN:VEVENT
DTSTART;TZID=Europe/Madrid:20250408T173000
DTEND;TZID=Europe/Madrid:20250408T190000
DTSTAMP:20260421T120008
CREATED:20250404T110450Z
LAST-MODIFIED:20250404T110450Z
UID:777-1744133400-1744138800@castillayleon.adicae.es
SUMMARY:TALLERES DE APRENDIZAJE AL USO DEL SMARTPHONE
DESCRIPTION:Sabemos que la tecnología avanza muy rápido… pero también sabemos que nunca es tarde para aprender.\nY más aún cuando se trata de algo que puede hacerte la vida más fácil. \nPor eso\, desde ADICAE retomamos nuestros talleres de alfabetización digital para móvil\, donde aprenderás\, paso a paso y sin agobios\, a usar tu teléfono de forma sencilla\, práctica y segura. \n¿Te suena alguna de estas frases?\n\n“Tengo móvil\, pero no me aclaro mucho con él…”\n“No me atrevo a tocar cosas por si lo estropeo”\n“Quiero hacer más cosas\, pero no sé por dónde empezar”\n\nEntonces este taller es para ti.\nNo importa si sabes poco o nada. Estaremos a tu lado para que ganes confianza y autonomía en el uso de tu móvil. \n¿Qué aprenderás?\n✔ A moverte con soltura por el móvil\n✔ A hacer fotos\, videollamadas y enviar mensajes\n✔ A buscar información útil en internet\n✔ A identificar fraudes y proteger tus datos\n✔ A usar apps prácticas (salud\, administración\, consumo…) \n¿Cuándo y dónde?\n            📅 Lunes taller de alfabetización básico     📅 Martes taller de alfabetización avanzado\n17:30H \n📍Presencial en la sede de ADICAE Valladolid\n💰 Taller gratuito  \nSerá un espacio tranquilo\, paso a paso\, con acompañamiento personalizado y sin necesidad de tener conocimientos previos. Además\, compartirás la experiencia con otras personas socias con tus mismas inquietudes. \nDa el paso\, que nosotros te acompañamos. \nTu móvil puede ser tu gran aliado. \n¡TE INVITAMOS A VISITARNOS!
URL:https://castillayleon.adicae.es/actividad/talleres-de-aprendizaje-al-uso-del-smartphone-2/
LOCATION:Sede ADICAE Castilla y León\, Calle General Ruiz\, 2 (Pasaje de la Marquesina)\, Local 12\, Valladolid\, VALLADOLID\, 47004\, España
ATTACH;FMTTYPE=image/png:https://castillayleon.adicae.es/wp-content/uploads/2025/04/a3689d34-d26b-d697-f658-82bf6122b8a9.png
END:VEVENT
BEGIN:VEVENT
DTSTART;TZID=Europe/Madrid:20250414T173000
DTEND;TZID=Europe/Madrid:20250414T190000
DTSTAMP:20260421T120008
CREATED:20250404T110646Z
LAST-MODIFIED:20250404T110646Z
UID:779-1744651800-1744657200@castillayleon.adicae.es
SUMMARY:TALLERES DE APRENDIZAJE AL USO DEL MÓVIL
DESCRIPTION:Sabemos que la tecnología avanza muy rápido… pero también sabemos que nunca es tarde para aprender.\nY más aún cuando se trata de algo que puede hacerte la vida más fácil. \nPor eso\, desde ADICAE retomamos nuestros talleres de alfabetización digital para móvil\, donde aprenderás\, paso a paso y sin agobios\, a usar tu teléfono de forma sencilla\, práctica y segura. \n¿Te suena alguna de estas frases?\n\n“Tengo móvil\, pero no me aclaro mucho con él…”\n“No me atrevo a tocar cosas por si lo estropeo”\n“Quiero hacer más cosas\, pero no sé por dónde empezar”\n\nEntonces este taller es para ti.\nNo importa si sabes poco o nada. Estaremos a tu lado para que ganes confianza y autonomía en el uso de tu móvil. \n¿Qué aprenderás?\n✔ A moverte con soltura por el móvil\n✔ A hacer fotos\, videollamadas y enviar mensajes\n✔ A buscar información útil en internet\n✔ A identificar fraudes y proteger tus datos\n✔ A usar apps prácticas (salud\, administración\, consumo…) \n¿Cuándo y dónde?\n            📅 Lunes taller de alfabetización básico     📅 Martes taller de alfabetización avanzado\n17:30H \n📍Presencial en la sede de ADICAE Valladolid\n💰 Taller gratuito  \nSerá un espacio tranquilo\, paso a paso\, con acompañamiento personalizado y sin necesidad de tener conocimientos previos. Además\, compartirás la experiencia con otras personas socias con tus mismas inquietudes. \nDa el paso\, que nosotros te acompañamos. \nTu móvil puede ser tu gran aliado. \n¡TE INVITAMOS A VISITARNOS!
URL:https://castillayleon.adicae.es/actividad/talleres-de-aprendizaje-al-uso-del-movil/
LOCATION:Sede ADICAE Castilla y León\, Calle General Ruiz\, 2 (Pasaje de la Marquesina)\, Local 12\, Valladolid\, VALLADOLID\, 47004\, España
ATTACH;FMTTYPE=image/png:https://castillayleon.adicae.es/wp-content/uploads/2025/04/a3689d34-d26b-d697-f658-82bf6122b8a9.png
END:VEVENT
BEGIN:VEVENT
DTSTART;TZID=Europe/Madrid:20250414T180000
DTEND;TZID=Europe/Madrid:20250414T193000
DTSTAMP:20260421T120008
CREATED:20250402T140229Z
LAST-MODIFIED:20250415T144425Z
UID:769-1744653600-1744659000@castillayleon.adicae.es
SUMMARY:¿ERES MUTUALISTA Y NO SABES CÓMO PEDIR EN LA DECLARACIÓN DE LA RENTA 2024 LO QUE TRIBUTASTE DE MÁS? TE LO EXPLICAMOS
DESCRIPTION:¿Formas parte de los llamados «mutualistas»? \nLos mutualistas son aquellas personas jubiladas que realizaron sus aportaciones en el periodo entre los años 1967 y 1978\, antes de la reforma fiscal que sentó las bases sobre las que se establece el actual sistema de la Seguridad Social y que introdujo el Impuesto sobre la Renta de las Personas Físicas (IRPF) tal y como lo conocemos hoy en día. \n¿Y qué sucede? \nComo en ese momento estos pagos\, que hoy en día son deducibles\, no tributaban de la misma forma\, los mutualistas tienen derecho ahora a reclamar esa rebaja fiscal que no pudieron aprovechar en el momento de la cotización. \nEl caso ha dado muchas vueltas y ha generado diversos e incomprensibles cambios de criterio por parte de la Agencia Tributaria\, devolviendo a algunos de ellos la totalidad de lo aportado de más pero aplazando el pago a muchos otros. Finalmente se ha hecho justicia y en el 2025 todos los mutualistas recibirán lo que les corresponde. \nEl problema es que quizás no sabes bien si te corresponde\, si te lo han incluido ya en la declaración de 2024 y cómo solicitar lo correspondiente a las declaraciones anteriores (de 2019-2022). En este taller\, nosotros te lo explicaremos. \n¿Cómo puedo acudir a la sesión? \nPresencialmente: en la sede de Adicae CyL (Calle General Ruiz\, 2\, Pasaje de la Marquesina\, Local 12). 47004 Valladolid \nVideoconferencia: inscribiéndote AQUÍ \n¡TE ESPERAMOS!
URL:https://castillayleon.adicae.es/actividad/eres-mutualista-y-no-sabes-como-pedir-en-la-declaracion-de-la-renta-2024-lo-que-tributaste-de-mas-te-lo-explicamos/
LOCATION:Sede ADICAE Castilla y León\, Calle General Ruiz\, 2 (Pasaje de la Marquesina)\, Local 12\, Valladolid\, VALLADOLID\, 47004\, España
ATTACH;FMTTYPE=image/png:https://castillayleon.adicae.es/wp-content/uploads/2025/04/ChatGPT-Image-2-abr-2025-12_19_08.png
END:VEVENT
BEGIN:VEVENT
DTSTART;TZID=Europe/Madrid:20250415T173000
DTEND;TZID=Europe/Madrid:20250415T190000
DTSTAMP:20260421T120008
CREATED:20250404T110802Z
LAST-MODIFIED:20250404T110802Z
UID:781-1744738200-1744743600@castillayleon.adicae.es
SUMMARY:TALLERES DE APRENDIZAJE DE USO DEL SMARTPHONE
DESCRIPTION:Sabemos que la tecnología avanza muy rápido… pero también sabemos que nunca es tarde para aprender.\nY más aún cuando se trata de algo que puede hacerte la vida más fácil. \nPor eso\, desde ADICAE retomamos nuestros talleres de alfabetización digital para móvil\, donde aprenderás\, paso a paso y sin agobios\, a usar tu teléfono de forma sencilla\, práctica y segura. \n¿Te suena alguna de estas frases?\n\n“Tengo móvil\, pero no me aclaro mucho con él…”\n“No me atrevo a tocar cosas por si lo estropeo”\n“Quiero hacer más cosas\, pero no sé por dónde empezar”\n\nEntonces este taller es para ti.\nNo importa si sabes poco o nada. Estaremos a tu lado para que ganes confianza y autonomía en el uso de tu móvil. \n¿Qué aprenderás?\n✔ A moverte con soltura por el móvil\n✔ A hacer fotos\, videollamadas y enviar mensajes\n✔ A buscar información útil en internet\n✔ A identificar fraudes y proteger tus datos\n✔ A usar apps prácticas (salud\, administración\, consumo…) \n¿Cuándo y dónde?\n            📅 Lunes taller de alfabetización básico     📅 Martes taller de alfabetización avanzado\n17:30H \n📍Presencial en la sede de ADICAE Valladolid\n💰 Taller gratuito  \nSerá un espacio tranquilo\, paso a paso\, con acompañamiento personalizado y sin necesidad de tener conocimientos previos. Además\, compartirás la experiencia con otras personas socias con tus mismas inquietudes. \nDa el paso\, que nosotros te acompañamos. \nTu móvil puede ser tu gran aliado. \n¡TE INVITAMOS A VISITARNOS!
URL:https://castillayleon.adicae.es/actividad/talleres-de-aprendizaje-de-uso-del-smartphone/
LOCATION:Sede ADICAE Castilla y León\, Calle General Ruiz\, 2 (Pasaje de la Marquesina)\, Local 12\, Valladolid\, VALLADOLID\, 47004\, España
ATTACH;FMTTYPE=image/png:https://castillayleon.adicae.es/wp-content/uploads/2025/04/a3689d34-d26b-d697-f658-82bf6122b8a9.png
END:VEVENT
BEGIN:VEVENT
DTSTART;TZID=Europe/Madrid:20250421T173000
DTEND;TZID=Europe/Madrid:20250421T190000
DTSTAMP:20260421T120008
CREATED:20250415T144054Z
LAST-MODIFIED:20250415T144054Z
UID:871-1745256600-1745262000@castillayleon.adicae.es
SUMMARY:TALLERES DE APRENDIZAJE DE USO DEL SMARTPHONE
DESCRIPTION:Sabemos que la tecnología avanza muy rápido… pero también sabemos que nunca es tarde para aprender.\nY más aún cuando se trata de algo que puede hacerte la vida más fácil. \nPor eso\, desde ADICAE retomamos nuestros talleres de alfabetización digital para móvil\, donde aprenderás\, paso a paso y sin agobios\, a usar tu teléfono de forma sencilla\, práctica y segura. \n¿Te suena alguna de estas frases?\n\n“Tengo móvil\, pero no me aclaro mucho con él…”\n“No me atrevo a tocar cosas por si lo estropeo”\n“Quiero hacer más cosas\, pero no sé por dónde empezar”\n\nEntonces este taller es para ti.\nNo importa si sabes poco o nada. Estaremos a tu lado para que ganes confianza y autonomía en el uso de tu móvil. \n¿Qué aprenderás?\n✔ A moverte con soltura por el móvil\n✔ A hacer fotos\, videollamadas y enviar mensajes\n✔ A buscar información útil en internet\n✔ A identificar fraudes y proteger tus datos\n✔ A usar apps prácticas (salud\, administración\, consumo…) \n¿Cuándo y dónde?\n📅 Lunes taller de alfabetización básico     📅 Martes taller de alfabetización avanzado\n17:30H \n📍Presencial en la sede de ADICAE Valladolid\n💰 Taller gratuito  \nSerá un espacio tranquilo\, paso a paso\, con acompañamiento personalizado y sin necesidad de tener conocimientos previos. Además\, compartirás la experiencia con otras personas socias con tus mismas inquietudes. \nDa el paso\, que nosotros te acompañamos. \nTu móvil puede ser tu gran aliado. \n¡TE INVITAMOS A VISITARNOS!
URL:https://castillayleon.adicae.es/actividad/talleres-de-aprendizaje-de-uso-del-smartphone-2/
LOCATION:Sede ADICAE Castilla y León\, Calle General Ruiz\, 2 (Pasaje de la Marquesina)\, Local 12\, Valladolid\, VALLADOLID\, 47004\, España
ATTACH;FMTTYPE=image/png:https://castillayleon.adicae.es/wp-content/uploads/2025/04/a3689d34-d26b-d697-f658-82bf6122b8a9.png
END:VEVENT
BEGIN:VEVENT
DTSTART;TZID=Europe/Madrid:20250428T173000
DTEND;TZID=Europe/Madrid:20250428T190000
DTSTAMP:20260421T120008
CREATED:20250415T144254Z
LAST-MODIFIED:20250415T144254Z
UID:873-1745861400-1745866800@castillayleon.adicae.es
SUMMARY:TALLERES DE APRENDIZAJE DE USO DEL SMARTPHONE
DESCRIPTION:Sabemos que la tecnología avanza muy rápido… pero también sabemos que nunca es tarde para aprender.\nY más aún cuando se trata de algo que puede hacerte la vida más fácil. \nPor eso\, desde ADICAE retomamos nuestros talleres de alfabetización digital para móvil\, donde aprenderás\, paso a paso y sin agobios\, a usar tu teléfono de forma sencilla\, práctica y segura. \n¿Te suena alguna de estas frases?\n\n“Tengo móvil\, pero no me aclaro mucho con él…”\n“No me atrevo a tocar cosas por si lo estropeo”\n“Quiero hacer más cosas\, pero no sé por dónde empezar”\n\nEntonces este taller es para ti.\nNo importa si sabes poco o nada. Estaremos a tu lado para que ganes confianza y autonomía en el uso de tu móvil. \n¿Qué aprenderás?\n✔ A moverte con soltura por el móvil\n✔ A hacer fotos\, videollamadas y enviar mensajes\n✔ A buscar información útil en internet\n✔ A identificar fraudes y proteger tus datos\n✔ A usar apps prácticas (salud\, administración\, consumo…) \n¿Cuándo y dónde?\n📅 Lunes taller de alfabetización básico     📅 Martes taller de alfabetización avanzado\n17:30H \n📍Presencial en la sede de ADICAE Valladolid\n💰 Taller gratuito  \nSerá un espacio tranquilo\, paso a paso\, con acompañamiento personalizado y sin necesidad de tener conocimientos previos. Además\, compartirás la experiencia con otras personas socias con tus mismas inquietudes. \nDa el paso\, que nosotros te acompañamos. \nTu móvil puede ser tu gran aliado. \n¡TE INVITAMOS A VISITARNOS!
URL:https://castillayleon.adicae.es/actividad/talleres-de-aprendizaje-de-uso-del-smartphone-3/
LOCATION:Sede ADICAE Castilla y León\, Calle General Ruiz\, 2 (Pasaje de la Marquesina)\, Local 12\, Valladolid\, VALLADOLID\, 47004\, España
ATTACH;FMTTYPE=image/png:https://castillayleon.adicae.es/wp-content/uploads/2025/04/a3689d34-d26b-d697-f658-82bf6122b8a9.png
END:VEVENT
BEGIN:VEVENT
DTSTART;TZID=Europe/Madrid:20250429T173000
DTEND;TZID=Europe/Madrid:20250429T190000
DTSTAMP:20260421T120008
CREATED:20250415T144358Z
LAST-MODIFIED:20250415T144358Z
UID:875-1745947800-1745953200@castillayleon.adicae.es
SUMMARY:TALLERES DE APRENDIZAJE DE USO DEL SMARTPHONE
DESCRIPTION:Sabemos que la tecnología avanza muy rápido… pero también sabemos que nunca es tarde para aprender.\nY más aún cuando se trata de algo que puede hacerte la vida más fácil. \nPor eso\, desde ADICAE retomamos nuestros talleres de alfabetización digital para móvil\, donde aprenderás\, paso a paso y sin agobios\, a usar tu teléfono de forma sencilla\, práctica y segura. \n¿Te suena alguna de estas frases?\n\n“Tengo móvil\, pero no me aclaro mucho con él…”\n“No me atrevo a tocar cosas por si lo estropeo”\n“Quiero hacer más cosas\, pero no sé por dónde empezar”\n\nEntonces este taller es para ti.\nNo importa si sabes poco o nada. Estaremos a tu lado para que ganes confianza y autonomía en el uso de tu móvil. \n¿Qué aprenderás?\n✔ A moverte con soltura por el móvil\n✔ A hacer fotos\, videollamadas y enviar mensajes\n✔ A buscar información útil en internet\n✔ A identificar fraudes y proteger tus datos\n✔ A usar apps prácticas (salud\, administración\, consumo…) \n¿Cuándo y dónde?\n📅 Lunes taller de alfabetización básico     📅 Martes taller de alfabetización avanzado\n17:30H \n📍Presencial en la sede de ADICAE Valladolid\n💰 Taller gratuito  \nSerá un espacio tranquilo\, paso a paso\, con acompañamiento personalizado y sin necesidad de tener conocimientos previos. Además\, compartirás la experiencia con otras personas socias con tus mismas inquietudes. \nDa el paso\, que nosotros te acompañamos. \nTu móvil puede ser tu gran aliado. \n¡TE INVITAMOS A VISITARNOS!
URL:https://castillayleon.adicae.es/actividad/talleres-de-aprendizaje-de-uso-del-smartphone-4/
LOCATION:Sede ADICAE Castilla y León\, Calle General Ruiz\, 2 (Pasaje de la Marquesina)\, Local 12\, Valladolid\, VALLADOLID\, 47004\, España
ATTACH;FMTTYPE=image/png:https://castillayleon.adicae.es/wp-content/uploads/2025/04/a3689d34-d26b-d697-f658-82bf6122b8a9.png
END:VEVENT
END:VCALENDAR