BEGIN:VCALENDAR
VERSION:2.0
PRODID:-//ADICAE Castilla y León - ECPv6.15.20//NONSGML v1.0//EN
CALSCALE:GREGORIAN
METHOD:PUBLISH
X-WR-CALNAME:ADICAE Castilla y León
X-ORIGINAL-URL:https://castillayleon.adicae.es
X-WR-CALDESC:Eventos para ADICAE Castilla y León
REFRESH-INTERVAL;VALUE=DURATION:PT1H
X-Robots-Tag:noindex
X-PUBLISHED-TTL:PT1H
BEGIN:VTIMEZONE
TZID:Europe/Madrid
BEGIN:DAYLIGHT
TZOFFSETFROM:+0100
TZOFFSETTO:+0200
TZNAME:CEST
DTSTART:20240331T010000
END:DAYLIGHT
BEGIN:STANDARD
TZOFFSETFROM:+0200
TZOFFSETTO:+0100
TZNAME:CET
DTSTART:20241027T010000
END:STANDARD
BEGIN:DAYLIGHT
TZOFFSETFROM:+0100
TZOFFSETTO:+0200
TZNAME:CEST
DTSTART:20250330T010000
END:DAYLIGHT
BEGIN:STANDARD
TZOFFSETFROM:+0200
TZOFFSETTO:+0100
TZNAME:CET
DTSTART:20251026T010000
END:STANDARD
BEGIN:DAYLIGHT
TZOFFSETFROM:+0100
TZOFFSETTO:+0200
TZNAME:CEST
DTSTART:20260329T010000
END:DAYLIGHT
BEGIN:STANDARD
TZOFFSETFROM:+0200
TZOFFSETTO:+0100
TZNAME:CET
DTSTART:20261025T010000
END:STANDARD
END:VTIMEZONE
BEGIN:VEVENT
DTSTART;TZID=Europe/Madrid:20250305T173000
DTEND;TZID=Europe/Madrid:20250305T190000
DTSTAMP:20260423T104821
CREATED:20241217T095955Z
LAST-MODIFIED:20241217T095955Z
UID:636-1741195800-1741201200@castillayleon.adicae.es
SUMMARY:¿QUIERES APRENDER A USAR TU PC? NOSOTROS TE ENSEÑAMOS (TODOS LOS MIÉRCOLES DESDE EL 15 DE ENERO AL 19 DE MARZO)
DESCRIPTION:TE ENSEÑAMOS A USAR TU PC\n¿CUÁNDO? \nMIÉRCOLES: 17:30 H – 19:00 H APROX. (DEL 15 DE ENERO AL 19 DE MARZO) \n¿DÓNDE?  \nPRESENCIAL EN LA SEDE DE ADICAE CASTILLA Y LEÓN\, (Calle General Ruiz\, 2\, Pasaje de la Marquesina\, LOCAL 12\, 47004 VALLADOLID) \n¿Y CÓMO ME APUNTO? \nPor teléfono: 983 37 31 73\nPor mail: valladolid@adicae.net \n¿QUÉ VAS A APRENDER? \n\nConocerás las funciones de tu PC\nGestionar / crear tu propio correo electrónico.\nAplicaciones de mensajería y videoconferencia en el PC.\nEnvío de documentos a través de mail.\nCreación y uso de algunas RRSS (si te interesan)\nUso de diferentes navegadores web.\nIniciación a procesadores de textos y hojas de cálculo.\nOrganizar tus documentos / crear carpetas / borrar carpetas\nConexión a redes wifi.\nFunciones de bienestar digital.\nY mucho más…\n\n¡Es gratuito para socios y consumidores! ¡Tenemos formadores voluntarios cualificados! ¡No te quedes atrás en la sociedad digital que nos está tocando vivir!\n\n¡NO TE QUEDES ATRÁS! ¡Te esperamos!
URL:https://castillayleon.adicae.es/actividad/quieres-aprender-a-usar-tu-pc-nosotros-te-ensenamos-todos-los-miercoles-desde-el-15-de-enero-al-19-de-marzo-7/
LOCATION:Sede ADICAE Castilla y León\, Calle General Ruiz\, 2 (Pasaje de la Marquesina)\, Local 12\, Valladolid\, VALLADOLID\, 47004\, España
ATTACH;FMTTYPE=image/png:https://castillayleon.adicae.es/wp-content/uploads/2024/12/91cbe202-1bab-0680-bd41-59c8a5e1a9e1-1.png
END:VEVENT
BEGIN:VEVENT
DTSTART;TZID=Europe/Madrid:20250311T100000
DTEND;TZID=Europe/Madrid:20250311T150000
DTSTAMP:20260423T104821
CREATED:20250214T100522Z
LAST-MODIFIED:20250306T100926Z
UID:740-1741687200-1741705200@castillayleon.adicae.es
SUMMARY:DIA DEL CONSUMIDOR SEGOVIA
DESCRIPTION:
URL:https://castillayleon.adicae.es/actividad/dia-del-consumidor-segovia/
LOCATION:VALLADOLID
ATTACH;FMTTYPE=image/png:https://castillayleon.adicae.es/wp-content/uploads/2025/02/Cartel-Instagram.png
END:VEVENT
BEGIN:VEVENT
DTSTART;TZID=Europe/Madrid:20250312T173000
DTEND;TZID=Europe/Madrid:20250312T190000
DTSTAMP:20260423T104821
CREATED:20241217T100055Z
LAST-MODIFIED:20241217T100055Z
UID:638-1741800600-1741806000@castillayleon.adicae.es
SUMMARY:¿QUIERES APRENDER A USAR TU PC? NOSOTROS TE ENSEÑAMOS (TODOS LOS MIÉRCOLES DESDE EL 15 DE ENERO AL 19 DE MARZO)
DESCRIPTION:TE ENSEÑAMOS A USAR TU PC\n¿CUÁNDO? \nMIÉRCOLES: 17:30 H – 19:00 H APROX. (DEL 15 DE ENERO AL 19 DE MARZO) \n¿DÓNDE?  \nPRESENCIAL EN LA SEDE DE ADICAE CASTILLA Y LEÓN\, (Calle General Ruiz\, 2\, Pasaje de la Marquesina\, LOCAL 12\, 47004 VALLADOLID) \n¿Y CÓMO ME APUNTO? \nPor teléfono: 983 37 31 73\nPor mail: valladolid@adicae.net \n¿QUÉ VAS A APRENDER? \n\nConocerás las funciones de tu PC\nGestionar / crear tu propio correo electrónico.\nAplicaciones de mensajería y videoconferencia en el PC.\nEnvío de documentos a través de mail.\nCreación y uso de algunas RRSS (si te interesan)\nUso de diferentes navegadores web.\nIniciación a procesadores de textos y hojas de cálculo.\nOrganizar tus documentos / crear carpetas / borrar carpetas\nConexión a redes wifi.\nFunciones de bienestar digital.\nY mucho más…\n\n¡Es gratuito para socios y consumidores! ¡Tenemos formadores voluntarios cualificados! ¡No te quedes atrás en la sociedad digital que nos está tocando vivir!\n\n¡NO TE QUEDES ATRÁS! ¡Te esperamos!
URL:https://castillayleon.adicae.es/actividad/quieres-aprender-a-usar-tu-pc-nosotros-te-ensenamos-todos-los-miercoles-desde-el-15-de-enero-al-19-de-marzo-8/
LOCATION:Sede ADICAE Castilla y León\, Calle General Ruiz\, 2 (Pasaje de la Marquesina)\, Local 12\, Valladolid\, VALLADOLID\, 47004\, España
ATTACH;FMTTYPE=image/png:https://castillayleon.adicae.es/wp-content/uploads/2024/12/91cbe202-1bab-0680-bd41-59c8a5e1a9e1-1.png
END:VEVENT
BEGIN:VEVENT
DTSTART;TZID=Europe/Madrid:20250313T100000
DTEND;TZID=Europe/Madrid:20250313T150000
DTSTAMP:20260423T104821
CREATED:20250214T100602Z
LAST-MODIFIED:20250306T100947Z
UID:742-1741860000-1741878000@castillayleon.adicae.es
SUMMARY:DIA DEL CONSUMIDOR SALAMANCA
DESCRIPTION:
URL:https://castillayleon.adicae.es/actividad/dia-del-consumidor-salamanca/
LOCATION:VALLADOLID
ATTACH;FMTTYPE=image/png:https://castillayleon.adicae.es/wp-content/uploads/2025/02/Cartel-Instagram.png
END:VEVENT
BEGIN:VEVENT
DTSTART;TZID=Europe/Madrid:20250313T190000
DTEND;TZID=Europe/Madrid:20250313T210000
DTSTAMP:20260423T104821
CREATED:20250228T113344Z
LAST-MODIFIED:20250228T113344Z
UID:754-1741892400-1741899600@castillayleon.adicae.es
SUMMARY:CHARLA-DEBATE "LA DEFENSA DE LOS CONSUMIDORES EN LAS COMPRAS DIGITALES"
DESCRIPTION:
URL:https://castillayleon.adicae.es/actividad/charla-debate-la-defensa-de-los-consumidores-en-las-compras-digitales/
LOCATION:VALLADOLID
ATTACH;FMTTYPE=image/jpeg:https://castillayleon.adicae.es/wp-content/uploads/2025/02/Cartel-Junta-Arbitral-Consumo-13-3-2025-definitivo_page-0001.jpg
END:VEVENT
BEGIN:VEVENT
DTSTART;TZID=Europe/Madrid:20250314T100000
DTEND;TZID=Europe/Madrid:20250314T150000
DTSTAMP:20260423T104821
CREATED:20250214T100441Z
LAST-MODIFIED:20250306T101017Z
UID:738-1741946400-1741964400@castillayleon.adicae.es
SUMMARY:DIA DEL CONSUMIDOR VALLADOLID
DESCRIPTION:
URL:https://castillayleon.adicae.es/actividad/dia-del-consumidor-valladolid/
LOCATION:VALLADOLID
ATTACH;FMTTYPE=image/png:https://castillayleon.adicae.es/wp-content/uploads/2025/02/Cartel-Instagram.png
END:VEVENT
BEGIN:VEVENT
DTSTART;TZID=Europe/Madrid:20250319T173000
DTEND;TZID=Europe/Madrid:20250319T190000
DTSTAMP:20260423T104821
CREATED:20241217T100144Z
LAST-MODIFIED:20241217T100144Z
UID:640-1742405400-1742410800@castillayleon.adicae.es
SUMMARY:¿QUIERES APRENDER A USAR TU PC? NOSOTROS TE ENSEÑAMOS (TODOS LOS MIÉRCOLES DESDE EL 15 DE ENERO AL 19 DE MARZO)
DESCRIPTION:TE ENSEÑAMOS A USAR TU PC\n¿CUÁNDO? \nMIÉRCOLES: 17:30 H – 19:00 H APROX. (DEL 15 DE ENERO AL 19 DE MARZO) \n¿DÓNDE?  \nPRESENCIAL EN LA SEDE DE ADICAE CASTILLA Y LEÓN\, (Calle General Ruiz\, 2\, Pasaje de la Marquesina\, LOCAL 12\, 47004 VALLADOLID) \n¿Y CÓMO ME APUNTO? \nPor teléfono: 983 37 31 73\nPor mail: valladolid@adicae.net \n¿QUÉ VAS A APRENDER? \n\nConocerás las funciones de tu PC\nGestionar / crear tu propio correo electrónico.\nAplicaciones de mensajería y videoconferencia en el PC.\nEnvío de documentos a través de mail.\nCreación y uso de algunas RRSS (si te interesan)\nUso de diferentes navegadores web.\nIniciación a procesadores de textos y hojas de cálculo.\nOrganizar tus documentos / crear carpetas / borrar carpetas\nConexión a redes wifi.\nFunciones de bienestar digital.\nY mucho más…\n\n¡Es gratuito para socios y consumidores! ¡Tenemos formadores voluntarios cualificados! ¡No te quedes atrás en la sociedad digital que nos está tocando vivir!\n\n¡NO TE QUEDES ATRÁS! ¡Te esperamos!
URL:https://castillayleon.adicae.es/actividad/quieres-aprender-a-usar-tu-pc-nosotros-te-ensenamos-todos-los-miercoles-desde-el-15-de-enero-al-19-de-marzo-9/
LOCATION:Sede ADICAE Castilla y León\, Calle General Ruiz\, 2 (Pasaje de la Marquesina)\, Local 12\, Valladolid\, VALLADOLID\, 47004\, España
ATTACH;FMTTYPE=image/png:https://castillayleon.adicae.es/wp-content/uploads/2024/12/91cbe202-1bab-0680-bd41-59c8a5e1a9e1-1.png
END:VEVENT
BEGIN:VEVENT
DTSTART;TZID=Europe/Madrid:20250326T180000
DTEND;TZID=Europe/Madrid:20250326T190000
DTSTAMP:20260423T104821
CREATED:20250321T103113Z
LAST-MODIFIED:20250321T103113Z
UID:763-1743012000-1743015600@castillayleon.adicae.es
SUMMARY:¿SABES QUÉ SEGUROS TE PUEDES DESGRAVAR EN LA PRÓXIMA DECLARACIÓN DE LA RENTA?
DESCRIPTION:¿Sabías que algunos seguros pueden ayudarte a reducir tu carga fiscal en la declaración de la renta? En este taller\, aprenderás cuáles son los seguros que pueden desgravarse\, en qué circunstancias y qué requisitos debes cumplir para beneficiarte de estas deducciones fiscales. \n\n\nObjetivos del taller:\n✅ Conocer los seguros que tienen beneficios fiscales en España.✅ Entender las condiciones necesarias para que un seguro sea deducible.✅ Aprender a reflejar correctamente estos seguros en la declaración de la renta.✅ Resolver dudas sobre la normativa vigente y los cambios más recientes en materia fiscal. \n\n\nACCESO ONLINE:  \nhttps://us02web.zoom.us/meeting/register/icNFqR2zQyqx4JI7EABWOg \n 
URL:https://castillayleon.adicae.es/actividad/sabes-que-seguros-te-puedes-desgravar-en-la-proxima-declaracion-de-la-renta/
LOCATION:Sede ADICAE Castilla y León\, Calle General Ruiz\, 2 (Pasaje de la Marquesina)\, Local 12\, Valladolid\, VALLADOLID\, 47004\, España
ATTACH;FMTTYPE=image/png:https://castillayleon.adicae.es/wp-content/uploads/2025/03/0b18aad0-1690-6dd9-3998-5e42bd3e6c11.png
END:VEVENT
END:VCALENDAR