BEGIN:VCALENDAR
VERSION:2.0
PRODID:-//ADICAE Castilla y León - ECPv6.15.20//NONSGML v1.0//EN
CALSCALE:GREGORIAN
METHOD:PUBLISH
X-WR-CALNAME:ADICAE Castilla y León
X-ORIGINAL-URL:https://castillayleon.adicae.es
X-WR-CALDESC:Eventos para ADICAE Castilla y León
REFRESH-INTERVAL;VALUE=DURATION:PT1H
X-Robots-Tag:noindex
X-PUBLISHED-TTL:PT1H
BEGIN:VTIMEZONE
TZID:Europe/Madrid
BEGIN:DAYLIGHT
TZOFFSETFROM:+0100
TZOFFSETTO:+0200
TZNAME:CEST
DTSTART:20240331T010000
END:DAYLIGHT
BEGIN:STANDARD
TZOFFSETFROM:+0200
TZOFFSETTO:+0100
TZNAME:CET
DTSTART:20241027T010000
END:STANDARD
BEGIN:DAYLIGHT
TZOFFSETFROM:+0100
TZOFFSETTO:+0200
TZNAME:CEST
DTSTART:20250330T010000
END:DAYLIGHT
BEGIN:STANDARD
TZOFFSETFROM:+0200
TZOFFSETTO:+0100
TZNAME:CET
DTSTART:20251026T010000
END:STANDARD
BEGIN:DAYLIGHT
TZOFFSETFROM:+0100
TZOFFSETTO:+0200
TZNAME:CEST
DTSTART:20260329T010000
END:DAYLIGHT
BEGIN:STANDARD
TZOFFSETFROM:+0200
TZOFFSETTO:+0100
TZNAME:CET
DTSTART:20261025T010000
END:STANDARD
END:VTIMEZONE
BEGIN:VEVENT
DTSTART;TZID=Europe/Madrid:20250108T180000
DTEND;TZID=Europe/Madrid:20250108T190000
DTSTAMP:20260423T130229
CREATED:20241217T090751Z
LAST-MODIFIED:20241217T090824Z
UID:607-1736359200-1736362800@castillayleon.adicae.es
SUMMARY:LOS CAMBIOS EN LAS TRANSFERENCIAS BANCARIAS QUE LLEGAN YA
DESCRIPTION:La nueva normativa europea que entra en vigor el 9 de enero  obliga a los bancos al impulso de las llamadas transferencias\, limitando su coste. \nLa UE quiere impulsar el uso de las transferencias inmediatas en el marco de la Unión\, y es por ello que implanta obligaciones a los bancos que pueden beneficiar a las empresas pero también a los consumidores. \n¿Quieres saber qué son las transferencias inmediatas\, cuál será su coste a partir del 9 de enero y en qué se diferencian de bizum? Pues este es el momento de descubrirlo. \nPresencialmente: en la sede de Adicae CyL (Calle General Ruiz\, 2\, Pasaje de la Marquesina\, Local 12). 47004 Valladolid \nVideoconferencia: pincha AQUÍ
URL:https://castillayleon.adicae.es/actividad/los-cambios-en-las-transferencias-bancarias-que-llegan-ya/
LOCATION:Sede ADICAE Castilla y León\, Calle General Ruiz\, 2 (Pasaje de la Marquesina)\, Local 12\, Valladolid\, VALLADOLID\, 47004\, España
ATTACH;FMTTYPE=image/jpeg:https://castillayleon.adicae.es/wp-content/uploads/2024/12/9bda8839-8b78-9f2a-1d30-51ca5c439239.jpg
END:VEVENT
BEGIN:VEVENT
DTSTART;TZID=Europe/Madrid:20250115T173000
DTEND;TZID=Europe/Madrid:20250115T190000
DTSTAMP:20260423T130229
CREATED:20241217T092716Z
LAST-MODIFIED:20241217T095320Z
UID:612-1736962200-1736967600@castillayleon.adicae.es
SUMMARY:¿QUIERES APRENDER A USAR TU PC? NOSOTROS TE ENSEÑAMOS (TODOS LOS MIÉRCOLES DESDE EL 15 DE ENERO AL 19 DE MARZO)
DESCRIPTION:TE ENSEÑAMOS A USAR TU PC\n¿CUÁNDO? \nMIÉRCOLES: 17:30 H – 19:00 H APROX. (DEL 15 DE ENERO AL 19 DE MARZO) \n¿DÓNDE?  \nPRESENCIAL EN LA SEDE DE ADICAE CASTILLA Y LEÓN\, (Calle General Ruiz\, 2\, Pasaje de la Marquesina\, LOCAL 12\, 47004 VALLADOLID) \n¿Y CÓMO ME APUNTO? \nPor teléfono: 983 37 31 73\nPor mail: valladolid@adicae.net \n¿QUÉ VAS A APRENDER? \n\nConocerás las funciones de tu PC\nGestionar / crear tu propio correo electrónico.\nAplicaciones de mensajería y videoconferencia en el PC.\nEnvío de documentos a través de mail.\nCreación y uso de algunas RRSS (si te interesan)\nUso de diferentes navegadores web.\nIniciación a procesadores de textos y hojas de cálculo.\nOrganizar tus documentos / crear carpetas / borrar carpetas\nConexión a redes wifi.\nFunciones de bienestar digital.\nY mucho más…\n\n¡Es gratuito para socios y consumidores! ¡Tenemos formadores voluntarios cualificados! ¡No te quedes atrás en la sociedad digital que nos está tocando vivir!\n\n¡NO TE QUEDES ATRÁS! ¡Te esperamos!
URL:https://castillayleon.adicae.es/actividad/quieres-aprender-a-usar-tu-pc-nosotros-te-ensenamos-del-15-de-enero-al-19-de-marzo/
LOCATION:Sede ADICAE Castilla y León\, Calle General Ruiz\, 2 (Pasaje de la Marquesina)\, Local 12\, Valladolid\, VALLADOLID\, 47004\, España
ATTACH;FMTTYPE=image/png:https://castillayleon.adicae.es/wp-content/uploads/2024/12/91cbe202-1bab-0680-bd41-59c8a5e1a9e1-1.png
END:VEVENT
BEGIN:VEVENT
DTSTART;TZID=Europe/Madrid:20250122T173000
DTEND;TZID=Europe/Madrid:20250122T190000
DTSTAMP:20260423T130229
CREATED:20241217T093248Z
LAST-MODIFIED:20241217T095334Z
UID:619-1737567000-1737572400@castillayleon.adicae.es
SUMMARY:¿QUIERES APRENDER A USAR TU PC? NOSOTROS TE ENSEÑAMOS (TODOS LOS MIÉRCOLES DESDE EL 15 DE ENERO AL 19 DE MARZO)
DESCRIPTION:TE ENSEÑAMOS A USAR TU PC\n¿CUÁNDO? \nMIÉRCOLES: 17:30 H – 19:00 H APROX. (DEL 15 DE ENERO AL 19 DE MARZO) \n¿DÓNDE?  \nPRESENCIAL EN LA SEDE DE ADICAE CASTILLA Y LEÓN\, (Calle General Ruiz\, 2\, Pasaje de la Marquesina\, LOCAL 12\, 47004 VALLADOLID) \n¿Y CÓMO ME APUNTO? \nPor teléfono: 983 37 31 73\nPor mail: valladolid@adicae.net \n¿QUÉ VAS A APRENDER? \n\nConocerás las funciones de tu PC\nGestionar / crear tu propio correo electrónico.\nAplicaciones de mensajería y videoconferencia en el PC.\nEnvío de documentos a través de mail.\nCreación y uso de algunas RRSS (si te interesan)\nUso de diferentes navegadores web.\nIniciación a procesadores de textos y hojas de cálculo.\nOrganizar tus documentos / crear carpetas / borrar carpetas\nConexión a redes wifi.\nFunciones de bienestar digital.\nY mucho más…\n\n¡Es gratuito para socios y consumidores! ¡Tenemos formadores voluntarios cualificados! ¡No te quedes atrás en la sociedad digital que nos está tocando vivir!\n\n¡NO TE QUEDES ATRÁS! ¡Te esperamos!
URL:https://castillayleon.adicae.es/actividad/quieres-aprender-a-usar-tu-pc-nosotros-te-ensenamos-todos-los-miercoles-desde-el-15-de-enero-al-19-de-marzo/
LOCATION:Sede ADICAE Castilla y León\, Calle General Ruiz\, 2 (Pasaje de la Marquesina)\, Local 12\, Valladolid\, VALLADOLID\, 47004\, España
ATTACH;FMTTYPE=image/png:https://castillayleon.adicae.es/wp-content/uploads/2024/12/91cbe202-1bab-0680-bd41-59c8a5e1a9e1-1.png
END:VEVENT
BEGIN:VEVENT
DTSTART;TZID=Europe/Madrid:20250129T173000
DTEND;TZID=Europe/Madrid:20250129T190000
DTSTAMP:20260423T130229
CREATED:20241217T093442Z
LAST-MODIFIED:20241217T095348Z
UID:622-1738171800-1738177200@castillayleon.adicae.es
SUMMARY:¿QUIERES APRENDER A USAR TU PC? NOSOTROS TE ENSEÑAMOS (TODOS LOS MIÉRCOLES DESDE EL 15 DE ENERO AL 19 DE MARZO)
DESCRIPTION:TE ENSEÑAMOS A USAR TU PC\n¿CUÁNDO? \nMIÉRCOLES: 17:30 H – 19:00 H APROX. (DEL 15 DE ENERO AL 19 DE MARZO) \n¿DÓNDE?  \nPRESENCIAL EN LA SEDE DE ADICAE CASTILLA Y LEÓN\, (Calle General Ruiz\, 2\, Pasaje de la Marquesina\, LOCAL 12\, 47004 VALLADOLID) \n¿Y CÓMO ME APUNTO? \nPor teléfono: 983 37 31 73\nPor mail: valladolid@adicae.net \n¿QUÉ VAS A APRENDER? \n\nConocerás las funciones de tu PC\nGestionar / crear tu propio correo electrónico.\nAplicaciones de mensajería y videoconferencia en el PC.\nEnvío de documentos a través de mail.\nCreación y uso de algunas RRSS (si te interesan)\nUso de diferentes navegadores web.\nIniciación a procesadores de textos y hojas de cálculo.\nOrganizar tus documentos / crear carpetas / borrar carpetas\nConexión a redes wifi.\nFunciones de bienestar digital.\nY mucho más…\n\n¡Es gratuito para socios y consumidores! ¡Tenemos formadores voluntarios cualificados! ¡No te quedes atrás en la sociedad digital que nos está tocando vivir!\n\n¡NO TE QUEDES ATRÁS! ¡Te esperamos!
URL:https://castillayleon.adicae.es/actividad/quieres-aprender-a-usar-tu-pc-nosotros-te-ensenamos-todos-los-miercoles-desde-el-15-de-enero-al-19-de-marzo-2/
LOCATION:Sede ADICAE Castilla y León\, Calle General Ruiz\, 2 (Pasaje de la Marquesina)\, Local 12\, Valladolid\, VALLADOLID\, 47004\, España
ATTACH;FMTTYPE=image/png:https://castillayleon.adicae.es/wp-content/uploads/2024/12/91cbe202-1bab-0680-bd41-59c8a5e1a9e1-1.png
END:VEVENT
BEGIN:VEVENT
DTSTART;TZID=Europe/Madrid:20250130T180000
DTEND;TZID=Europe/Madrid:20250130T190000
DTSTAMP:20260423T130229
CREATED:20250117T115745Z
LAST-MODIFIED:20250117T120114Z
UID:709-1738260000-1738263600@castillayleon.adicae.es
SUMMARY:IRPH: QUÉ ES Y POR QUÉ LA ÚLTIMA SENTENCIA DEL TJUE ABRE LA POSIBILIDAD A UNA RECLAMACIÓN MASIVA DE LOS CONSUMIDORES AFECTADOS
DESCRIPTION:El índice hipotecario denominado como IRPH lleva más de una década generando conflicto entre los bancos y los consumidores\, con multitud de resoluciones judiciales. \nMuchas hipotecas (se calcula entre 200.000 y 1 millón) aún siguen referenciadas a este índice hipotecario controvertido  ya que\, aunque aparentemente legal\, quizás se ha comercializado sin la debida transparencia para con los consumidores\, y esto genera una más que evidente situación de desigualdad. \nLa última sentencia del TJUE\, sin entrar a dirimir en la legalidad o no del índice hipotecario en cuestión\, sí aboga por ofrecer una serie de requisitos que las entidades financieras tendrían que haber cumplido para poder haber comercializado hipotecas referenciadas al IRPH con la transparencia debida. \nComo en muchos casos esta situación no se ha dado\, y a la espera de lo que diga el Tribunal Supremo\, parece que se abre una vía de reclamación evidente a los consumidores para que puedan recuperar las cantidades pagadas de más. Y estamos hablando de bastantes miles de euros en la mayoría de los casos. \n¿Quieres saber si tienes esta cláusula y si podrías reclamarla?\n\n¿Cómo puedo acudir a la sesión?\n\nPresencialmente: en la sede de Adicae CyL (Calle General Ruiz\, 2\, Pasaje de la Marquesina\, Local 12). 47004 Valladolid.\n\nONLINE: inscribiéndote AQUÍ
URL:https://castillayleon.adicae.es/actividad/irph-que-es-y-por-que-la-ultima-sentencia-del-tjue-abre-la-posibilidad-de-una-reclamacion-masiva-de-los-consumidores-afectados/
LOCATION:Sede ADICAE Castilla y León\, Calle General Ruiz\, 2 (Pasaje de la Marquesina)\, Local 12\, Valladolid\, VALLADOLID\, 47004\, España
ATTACH;FMTTYPE=image/jpeg:https://castillayleon.adicae.es/wp-content/uploads/2025/01/consumidores-dinero-comprar-casa-bancos__-17-01-2025-at-11-20-16.jpeg
END:VEVENT
END:VCALENDAR