BEGIN:VCALENDAR
VERSION:2.0
PRODID:-//ADICAE Castilla y León - ECPv6.15.20//NONSGML v1.0//EN
CALSCALE:GREGORIAN
METHOD:PUBLISH
X-WR-CALNAME:ADICAE Castilla y León
X-ORIGINAL-URL:https://castillayleon.adicae.es
X-WR-CALDESC:Eventos para ADICAE Castilla y León
REFRESH-INTERVAL;VALUE=DURATION:PT1H
X-Robots-Tag:noindex
X-PUBLISHED-TTL:PT1H
BEGIN:VTIMEZONE
TZID:Europe/Madrid
BEGIN:DAYLIGHT
TZOFFSETFROM:+0100
TZOFFSETTO:+0200
TZNAME:CEST
DTSTART:20230326T010000
END:DAYLIGHT
BEGIN:STANDARD
TZOFFSETFROM:+0200
TZOFFSETTO:+0100
TZNAME:CET
DTSTART:20231029T010000
END:STANDARD
BEGIN:DAYLIGHT
TZOFFSETFROM:+0100
TZOFFSETTO:+0200
TZNAME:CEST
DTSTART:20240331T010000
END:DAYLIGHT
BEGIN:STANDARD
TZOFFSETFROM:+0200
TZOFFSETTO:+0100
TZNAME:CET
DTSTART:20241027T010000
END:STANDARD
BEGIN:DAYLIGHT
TZOFFSETFROM:+0100
TZOFFSETTO:+0200
TZNAME:CEST
DTSTART:20250330T010000
END:DAYLIGHT
BEGIN:STANDARD
TZOFFSETFROM:+0200
TZOFFSETTO:+0100
TZNAME:CET
DTSTART:20251026T010000
END:STANDARD
END:VTIMEZONE
BEGIN:VEVENT
DTSTART;TZID=Europe/Madrid:20241121T163000
DTEND;TZID=Europe/Madrid:20241121T200000
DTSTAMP:20260423T204822
CREATED:20241113T172617Z
LAST-MODIFIED:20241114T125849Z
UID:516-1732206600-1732219200@castillayleon.adicae.es
SUMMARY:JORNADA NACIONAL: LOS CONSUMIDORES ANTE LA OFERTA HIPOTECARIA ONLINE
DESCRIPTION:ADICAE invita a todos los consumidores a nuestra jornada\, donde especialistas en neobancos y plataformas digitales de hipotecas explicarán cómo proteger tus derechos en el mercado hipotecario digital.\n\nINSCRÍBETE Y CONFIRMA TU ASISTENCIA EN: proyectos@adicae.net\, pinchando AQUÍ o en los teléfonos de  ADICAE CASTILLA Y LEÓN (983 37 31 73 / 650 61 94 09). Además\, ese mismo enlace sirve también para entrar en la jornada.\n\n  \nEn un mercado hipotecario en constante transformación\, donde la tecnología y los servicios financieros digitales están cambiando las reglas del juego\, los consumidores enfrentan nuevas oportunidades\, pero también nuevos desafíos. \nEl surgimiento de los neobancos y las plataformas tecnológicas de hipotecas\, conocidas como Hipotech\, ha introducido modelos innovadores que facilitan el acceso y la gestión de productos financieros\, pero que también traen consigo una serie de complejidades y responsabilidades para los usuarios. \nEn esta jornada\, organizada por ADICAE\, exploraremos cómo estos actores emergentes están cambiando la forma en que los usuarios acceden\, gestionan y solicitan hipotecas de manera digital.  \nPincha AQUÍ para ver el programa
URL:https://castillayleon.adicae.es/actividad/jornada-nacional-los-consumidores-antes-la-oferta-hipotecaria-online/
LOCATION:Sede ADICAE Castilla y León\, Calle General Ruiz\, 2 (Pasaje de la Marquesina)\, Local 12\, Valladolid\, VALLADOLID\, 47004\, España
ATTACH;FMTTYPE=image/png:https://castillayleon.adicae.es/wp-content/uploads/2024/11/Captura-de-pantalla-2024-11-13-173335.png
END:VEVENT
BEGIN:VEVENT
DTSTART;TZID=Europe/Madrid:20241119T190000
DTEND;TZID=Europe/Madrid:20241119T203000
DTSTAMP:20260423T204822
CREATED:20241114T102948Z
LAST-MODIFIED:20241114T172853Z
UID:525-1732042800-1732048200@castillayleon.adicae.es
SUMMARY:TALLER SOBRE COMERCIO ELECTRÓNICO PARA LOS CONSUMIDORES DE VALLADOLID
DESCRIPTION:Con motivo del proyecto subvencionado por el Ministerio de Consumo a nuestra asociación\, desde ADICAE proponemos a las asociaciones vecinales de Valladolid y por extensión a cualquier ciudadano de nuestra ciudad (o de fuera) aprender conceptos básicos que le harán comprar de manera online (que es una tendencia actualmente) de una forma más segura\, consciente y sin temores. \nLa asistencia a la sesión es completamente GRATUITA Y ABIERTA AL PÚBLICO HASTA COMPLETAR AFORO\, y tendrá lugar el MARTES 19 DE NOVIEMBRE DE 2024\, A LAS 19:00 H en: \n\nFEDERACIÓN PROVINCIAL DE ASOCIACIONES VECINALES DE VALLADOLID «ANTONIO MACHADO»\, C/ Vega 18\, 47004 VALLADOLID.\n\n* Los asistentes\, además\, recibirán una guía gratuita sobre comercio electrónico para consultarla siempre que lo deseen.\n¡Te esperamos!
URL:https://castillayleon.adicae.es/actividad/taller-sobre-comercio-electronico-para-los-consumidores-de-valladolid/
LOCATION:VALLADOLID
ATTACH;FMTTYPE=image/jpeg:https://castillayleon.adicae.es/wp-content/uploads/2024/11/ANTONIO-MACHADO.jpg
END:VEVENT
BEGIN:VEVENT
DTSTART;TZID=Europe/Madrid:20241118T183000
DTEND;TZID=Europe/Madrid:20241118T200000
DTSTAMP:20260423T204822
CREATED:20241113T171613Z
LAST-MODIFIED:20241114T124147Z
UID:513-1731954600-1731960000@castillayleon.adicae.es
SUMMARY:2ª SESIÓN DEL TALLER DE E-COMMERCE: MEDIOS DE PAGO EN EL COMERCIO ONLINE
DESCRIPTION:Con motivo del proyecto subvencionado por el Ministerio de Consumo a nuestra asociación\, desde ADICAE CASTILLA Y LEÓN\, os proponemos tres talleres GRATUITOS Y ABIERTOS A TODOS LOS CONSUMIDORES QUE DESEEN ASISTIR con diferentes ponentes y temáticas pero todos ellos relacionados con el COMERCIO ELECTRÓNICO: \n– Segundo taller: Medios de pago en el Comercio Online (18/11/24). 18:30 H\nASISTENCIA MIXTA: Presencial y online \n* Contaremos con formadores diferentes y preparados para cada una de las sesiones. \n* Se entregará una guía de Comercio Electrónico a todos los asistentes que acudan a la sede de ADICAE CASTILLA Y LEÓN. \n¿Cómo puedo acudir a la sesión? \nPresencialmente: en la sede de Adicae CASTILLA Y LEÓN (Calle General Ruiz\, 2\, Pasaje de la Marquesina\, Local 12). 47004 Valladolid \nVideoconferencia: PINCHANDO AQUÍ
URL:https://castillayleon.adicae.es/actividad/2a-sesion-del-taller-de-e-commerce-medios-de-pago-en-el-comercio-online/
LOCATION:Sede ADICAE Castilla y León\, Calle General Ruiz\, 2 (Pasaje de la Marquesina)\, Local 12\, Valladolid\, VALLADOLID\, 47004\, España
ATTACH;FMTTYPE=image/jpeg:https://castillayleon.adicae.es/wp-content/uploads/2024/11/JORNADA-COMERCIO-ELECTRONICO_VALLADOLID2.jpg
END:VEVENT
BEGIN:VEVENT
DTSTART;TZID=Europe/Madrid:20240404T173000
DTEND;TZID=Europe/Madrid:20240404T190000
DTSTAMP:20260423T204822
CREATED:20240326T173146Z
LAST-MODIFIED:20240326T173146Z
UID:424-1712251800-1712257200@castillayleon.adicae.es
SUMMARY:¿CONOCES LA "HIPOTECA INVERSA"? ¿NOS CONVIENE A LOS CONSUMIDORES?
DESCRIPTION:Taller formativo en el que hablaremos de la hipoteca inversa. Un producto que últimamente está ganando cuota de mercado\, a pesar de ser un producto financiero complejo\, que pocos consumidores entienden en profundidad (ni sus características ni sus consecuencias). Por supuesto\, tampoco la idoneidad de este producto para su situación financiera particular. \nEs por ello que en este taller en Salamanca\, en colaboración con la OMIC del Ayuntamiento de Salamanca\, explicaremos de qué se trata la hipoteca inversa para saber si nos conviene o si\, por el contrario\, conlleva más desventajas que beneficios.
URL:https://castillayleon.adicae.es/actividad/conoces-la-hipoteca-inversa-nos-conviene-a-los-consumidores/
LOCATION:VALLADOLID
ATTACH;FMTTYPE=image/webp:https://castillayleon.adicae.es/wp-content/uploads/2024/03/hipoteca-inversa-1194x535-1.webp
END:VEVENT
BEGIN:VEVENT
DTSTART;TZID=Europe/Madrid:20240402T180000
DTEND;TZID=Europe/Madrid:20240402T193000
DTSTAMP:20260423T204822
CREATED:20240326T173803Z
LAST-MODIFIED:20240326T174235Z
UID:428-1712080800-1712086200@castillayleon.adicae.es
SUMMARY:LOS MARTES\, SON PARA APRENDER A USAR TU PC EN ADICAE CASTILLA Y LEÓN
DESCRIPTION:La digitalización en nuestra sociedad avanza muy rápido. La gran mayoría de procesos y actividades cotidianas ya tienen su correlato digital. Y es probable que a futuro todo se haga ya a través del móvil. Es por ello que te brindamos la oportunidad GRATUITA  y abierta a todos nuestros socios/as y simpatizantes de no quedarte atrás en esta sociedad en la que\, como decimos\, el «tsunami tecnológico» nos puede llevar por delante. \nTe puedes estar preguntando: ¿qué voy a aprender? \n\nEntender tu PC: sus características principales y para qué sirve cada una de ellas.\nCreación de mail\, navegación web.\nConceptos básicos de WINDOWS\, WORD\, PDF\, etc.\nCómo relacionarte con la administración a través del certificado digital.\nGestión de documentos\, carpetas\, etc.\n\n¿DÓNDE Y CUÁNDO LO HAREMOS? \nPresencial: sede de ADICAE CASTILLA Y LEÓN (Pasaje de la Marquesina\, Local 12).\n47004 VALLADOLID \nTODOS LOS MARTES EN LA SEDE DE ADICAE CASTILLA Y LEÓN \n18:00 H (hasta verano) \n¡APÚNTATE! \nLlama al 983 37 31 73 o al 650 61 94 09 (también por WHATSAPP) o manda un mail si estás interesado a: valladolid@adicae.net  \n¡TE ESPERAMOS!
URL:https://castillayleon.adicae.es/actividad/los-martes-son-para-aprender-a-usar-tu-pc/
LOCATION:Sede ADICAE Castilla y León\, Calle General Ruiz\, 2 (Pasaje de la Marquesina)\, Local 12\, Valladolid\, VALLADOLID\, 47004\, España
ATTACH;FMTTYPE=image/jpeg:https://castillayleon.adicae.es/wp-content/uploads/2024/03/Firefly-uso-movil-y-ordenador-aprender-clases-17412-1-1.jpg
END:VEVENT
BEGIN:VEVENT
DTSTART;TZID=Europe/Madrid:20240401T180000
DTEND;TZID=Europe/Madrid:20240401T180000
DTSTAMP:20260423T204822
CREATED:20240326T161209Z
LAST-MODIFIED:20240326T162029Z
UID:409-1711994400-1711994400@castillayleon.adicae.es
SUMMARY:TRAS LA SEMANA SANTA... ¡¡¡COMENZAMOS NUESTROS TALLERES DE APRENDIZAJE DE TELÉFONO MÓVIL HASTA VERANO!!!
DESCRIPTION:La digitalización en nuestra sociedad avanza muy rápido. La gran mayoría de procesos y actividades cotidianas ya tienen su correlato digital. Y es probable que a futuro todo se haga ya a través del móvil. Es por ello que te brindamos la oportunidad GRATUITA  y abierta a todos nuestros socios/as y simpatizantes de no quedarte atrás en esta sociedad en la que\, como decimos\, el «tsunami tecnológico» nos puede llevar por delante. \nTe puedes estar preguntando: ¿qué voy a aprender? \n\nEntender tu teléfono: sus características principales y para qué sirve cada una de ellas.\nCreación de mail y uso de aplicaciones para gestión de correos electrónicos.\nCómo relacionarte con la administración.\nNavegación móvil o por GPS\, y muchas más cosas.\n\n* TENDREMOS DOS GRUPOS SIMULTÁNEOS\, ADAPTADOS AL NIVEL DE LOS PARTICIPANTES.\n¿DÓNDE Y CUÁNDO LO HAREMOS?\nPresencial: sede de ADICAE CASTILLA Y LEÓN (Pasaje de la Marquesina\, Local 12).\n47004 VALLADOLID\nDesde el 1 de abril: todos los lunes a las 18:00 H (hasta verano) \n¡APÚNTATE! \nLlama al 983 37 31 73 o al 650 61 94 09 (también por WHATSAPP) o manda un mail si estás interesado a: valladolid@adicae.net \n¡TE ESPERAMOS!
URL:https://castillayleon.adicae.es/actividad/tras-la-semana-santa-comenzamos-nuestros-talleres-de-aprendizaje-de-telefono-movil-hasta-verano/
LOCATION:Sede ADICAE Castilla y León\, Calle General Ruiz\, 2 (Pasaje de la Marquesina)\, Local 12\, Valladolid\, VALLADOLID\, 47004\, España
ATTACH;FMTTYPE=image/jpeg:https://castillayleon.adicae.es/wp-content/uploads/2024/03/Firefly-aprendizaje-de-uso-del-telefono-movil-43469-1.jpg
END:VEVENT
BEGIN:VEVENT
DTSTART;TZID=Europe/Madrid:20240327T180000
DTEND;TZID=Europe/Madrid:20240327T190000
DTSTAMP:20260423T204822
CREATED:20240326T172254Z
LAST-MODIFIED:20240326T172446Z
UID:419-1711562400-1711566000@castillayleon.adicae.es
SUMMARY:¿VAS A VIAJAR LA PRÓXIMA SEMANA Y QUIERES ESTAR PREVENIDO POR SI SE PRODUCEN RETRASOS EN LOS TRANSPORTES? ¿SABRÍAS RECLAMARLO? TE LO EXPLICAMOS
DESCRIPTION:Llegan unos días de vacaciones en gran parte de España\, y muchos consumidores van a desplazarse a través de diversos medios de transporte: por tren\, avión en autobús\, etc. \nSabemos que muchas veces\, y más en estas fechas\, estos transportes sufren cancelaciones\, retrasos\, sustituciones\, enganches de transporte que no estaban planificados\, etc. \nLos consumidores tenemos derecho a reclamar esos inconvenientes que son del todo ajenos a nuestra voluntad\, y que pueden hacernos perder una conexión o incluso no acabar llegando a nuestro destino. Te explicamos en este interesante taller qué derechos tenemos los consumidores como usuarios de medios de transportes y cómo poder ejercerlos. \n¿Cómo puedo acudir a la sesión? \nPresencialmente: en la sede de Adicae CyL (Calle General Ruiz\, 2\, Pasaje de la Marquesina\, Local 12). 47004 Valladolid \nONLINE (enlace de registro): \nhttps://us02web.zoom.us/meeting/register/tZErc-iupzItGdGcwmvR1iCoU_aCkb7aNUEx \n¡Te esperamos! \nUn afectuoso saludo\, ADICAE Castilla y León
URL:https://castillayleon.adicae.es/actividad/vas-a-viajar-la-proxima-semana-y-quieres-estar-prevenido-por-si-se-producen-retrasos-en-los-transportes-sabrias-reclamarlo-te-lo-explicamos/
LOCATION:Sede ADICAE Castilla y León\, Calle General Ruiz\, 2 (Pasaje de la Marquesina)\, Local 12\, Valladolid\, VALLADOLID\, 47004\, España
ATTACH;FMTTYPE=image/jpeg:https://castillayleon.adicae.es/wp-content/uploads/2024/03/airplane-4974678_640.jpg
END:VEVENT
END:VCALENDAR