BEGIN:VCALENDAR
VERSION:2.0
PRODID:-//ADICAE Castilla y León - ECPv6.15.20//NONSGML v1.0//EN
CALSCALE:GREGORIAN
METHOD:PUBLISH
X-WR-CALNAME:ADICAE Castilla y León
X-ORIGINAL-URL:https://castillayleon.adicae.es
X-WR-CALDESC:Eventos para ADICAE Castilla y León
REFRESH-INTERVAL;VALUE=DURATION:PT1H
X-Robots-Tag:noindex
X-PUBLISHED-TTL:PT1H
BEGIN:VTIMEZONE
TZID:Europe/Madrid
BEGIN:DAYLIGHT
TZOFFSETFROM:+0100
TZOFFSETTO:+0200
TZNAME:CEST
DTSTART:20250330T010000
END:DAYLIGHT
BEGIN:STANDARD
TZOFFSETFROM:+0200
TZOFFSETTO:+0100
TZNAME:CET
DTSTART:20251026T010000
END:STANDARD
BEGIN:DAYLIGHT
TZOFFSETFROM:+0100
TZOFFSETTO:+0200
TZNAME:CEST
DTSTART:20260329T010000
END:DAYLIGHT
BEGIN:STANDARD
TZOFFSETFROM:+0200
TZOFFSETTO:+0100
TZNAME:CET
DTSTART:20261025T010000
END:STANDARD
BEGIN:DAYLIGHT
TZOFFSETFROM:+0100
TZOFFSETTO:+0200
TZNAME:CEST
DTSTART:20270328T010000
END:DAYLIGHT
BEGIN:STANDARD
TZOFFSETFROM:+0200
TZOFFSETTO:+0100
TZNAME:CET
DTSTART:20271031T010000
END:STANDARD
END:VTIMEZONE
BEGIN:VEVENT
DTSTART;TZID=Europe/Madrid:20260316T173000
DTEND;TZID=Europe/Madrid:20260316T190000
DTSTAMP:20260423T134155
CREATED:20260109T115006Z
LAST-MODIFIED:20260109T115830Z
UID:1149-1773682200-1773687600@castillayleon.adicae.es
SUMMARY:APRENDE A USAR TU PC DE MANERA SENCILLA
DESCRIPTION:Queridos socios/as y simpatizantes: \nSabemos que la tecnología avanza muy rápido… pero también sabemos que nunca es tarde para aprender. \nY más aún cuando se trata de algo que puede hacerte la vida más fácil. \nPor eso\, desde ADICAE retomamos nuestros talleres de alfabetización digital para PC donde aprenderás\, paso a paso y sin agobios\, a usar tu ordenador para realizar las tareas cotidianas\, compras online\, trámites administrativos\, navegación y búsqueda de información\, creación o modificación de documentos\, etc. de una manera fácil y segura. \n\n¿Te suenan alguna de estas frases?\n\n“Tengo un ordenador portátil pero no me atrevo ni a encenderlo…”\n“El ordenador me va lento porque creo que tengo virus y me salen muchas pantallas de publicidad que yo no quiero…»\n“Me gustaría saber hacer lo básico\, usar o firmar un PDF\, redactar un documento o firmar un documento con certificado digital o a tratar con la administración pública pero me veo incapaz…”\n«No sé lo que es un buzón de correo electrónico\, cómo se crea ni qué ventajas tiene para mí…»\n\nSi te has planteado cuestiones como estas\, entonces ESTE TALLER ES PARA TI \nNo importa si sabes poco o nada. Estaremos a tu lado para que ganes confianza y autonomía en el uso de tu ordenador personal. \n¿Qué aprenderás?\n✔ A moverte con soltura por las ventanas y el escritorio del PC.\n✔ A crear y/o manejar con soltura una cuenta de correo electrónico.\n✔ A buscar información útil en internet.\n✔ A identificar fraudes y proteger tus datos.\n✔ A conseguir tu certificado digital\, firmar documentos o tratar con la administración con dicho certificado. \n¿Cuándo y dónde se realizarán?\n📅 TODOS LOS LUNES (DESDE EL 19 DE ENERO AL 30 DE MARZO (AMBOS INCLUIDOS) \nHORA: 17:30 HORAS \n📍PRESENCIAL en la sede de ADICAE en Valladolid \n  \n💰 Taller GRATUITO para socios y simpatizantes de ADICAE \n  \nSerá un espacio tranquilo\, paso a paso\, a vuestro ritmo y con un acompañamiento personalizado y\, lo mejor de todo\, sin necesidad de tener conocimientos previos. Además\, compartirás la experiencia con otras personas socias o simpatizantes con tus mismas inquietudes. \n  \n¡Da el paso\, que nosotros te acompañamos! \nTu PC también puede ser tu gran aliado 🙂 \n  \n¡TE INVITAMOS A VISITARNOS!
URL:https://castillayleon.adicae.es/actividad/aprende-a-usar-tu-pc-de-manera-sencilla-9/
LOCATION:Sede ADICAE Castilla y León\, Calle General Ruiz\, 2 (Pasaje de la Marquesina)\, Local 12\, Valladolid\, VALLADOLID\, 47004\, España
ATTACH;FMTTYPE=image/png:https://castillayleon.adicae.es/wp-content/uploads/2026/01/Diseno-sin-titulo-1.png
END:VEVENT
BEGIN:VEVENT
DTSTART;TZID=Europe/Madrid:20260317T180000
DTEND;TZID=Europe/Madrid:20260317T180000
DTSTAMP:20260423T134155
CREATED:20260309T114158Z
LAST-MODIFIED:20260312T164405Z
UID:1194-1773770400-1773770400@castillayleon.adicae.es
SUMMARY:CHARLA INFORMATIVA “Comprar en línea\, riesgos y derechos de los consumidores”
DESCRIPTION:Charla informativa en la que trataremos el aspecto de la compra en línea (cada vez más en auge) y los riesgos y derechos de los consumidores. \n 
URL:https://castillayleon.adicae.es/actividad/charla-informativa-comprar-en-linea-riesgos-y-derechos-de-los-consumidores/
LOCATION:ESPACIO JOVEN SUR\, PASEO DE ZORRILLA 101\, VALLADOLID\, VALLADOLID\, 47007\, Spain
ATTACH;FMTTYPE=image/jpeg:https://castillayleon.adicae.es/wp-content/uploads/2026/03/cartel-charla-dia-del-consumidor-2026_page-0001-1-1.jpg
END:VEVENT
BEGIN:VEVENT
DTSTART;TZID=Europe/Madrid:20260323T173000
DTEND;TZID=Europe/Madrid:20260323T190000
DTSTAMP:20260423T134155
CREATED:20260109T115108Z
LAST-MODIFIED:20260109T115853Z
UID:1151-1774287000-1774292400@castillayleon.adicae.es
SUMMARY:APRENDE A USAR TU PC DE MANERA SENCILLA
DESCRIPTION:Queridos socios/as y simpatizantes: \nSabemos que la tecnología avanza muy rápido… pero también sabemos que nunca es tarde para aprender. \nY más aún cuando se trata de algo que puede hacerte la vida más fácil. \nPor eso\, desde ADICAE retomamos nuestros talleres de alfabetización digital para PC donde aprenderás\, paso a paso y sin agobios\, a usar tu ordenador para realizar las tareas cotidianas\, compras online\, trámites administrativos\, navegación y búsqueda de información\, creación o modificación de documentos\, etc. de una manera fácil y segura. \n\n¿Te suenan alguna de estas frases?\n\n“Tengo un ordenador portátil pero no me atrevo ni a encenderlo…”\n“El ordenador me va lento porque creo que tengo virus y me salen muchas pantallas de publicidad que yo no quiero…»\n“Me gustaría saber hacer lo básico\, usar o firmar un PDF\, redactar un documento o firmar un documento con certificado digital o a tratar con la administración pública pero me veo incapaz…”\n«No sé lo que es un buzón de correo electrónico\, cómo se crea ni qué ventajas tiene para mí…»\n\nSi te has planteado cuestiones como estas\, entonces ESTE TALLER ES PARA TI \nNo importa si sabes poco o nada. Estaremos a tu lado para que ganes confianza y autonomía en el uso de tu ordenador personal. \n¿Qué aprenderás?\n✔ A moverte con soltura por las ventanas y el escritorio del PC.\n✔ A crear y/o manejar con soltura una cuenta de correo electrónico.\n✔ A buscar información útil en internet.\n✔ A identificar fraudes y proteger tus datos.\n✔ A conseguir tu certificado digital\, firmar documentos o tratar con la administración con dicho certificado. \n¿Cuándo y dónde se realizarán?\n📅 TODOS LOS LUNES (DESDE EL 19 DE ENERO AL 30 DE MARZO (AMBOS INCLUIDOS) \nHORA: 17:30 HORAS \n📍PRESENCIAL en la sede de ADICAE en Valladolid \n  \n💰 Taller GRATUITO para socios y simpatizantes de ADICAE \n  \nSerá un espacio tranquilo\, paso a paso\, a vuestro ritmo y con un acompañamiento personalizado y\, lo mejor de todo\, sin necesidad de tener conocimientos previos. Además\, compartirás la experiencia con otras personas socias o simpatizantes con tus mismas inquietudes. \n  \n¡Da el paso\, que nosotros te acompañamos! \nTu PC también puede ser tu gran aliado 🙂 \n  \n¡TE INVITAMOS A VISITARNOS!
URL:https://castillayleon.adicae.es/actividad/aprende-a-usar-tu-pc-de-manera-sencilla-10/
LOCATION:Sede ADICAE Castilla y León\, Calle General Ruiz\, 2 (Pasaje de la Marquesina)\, Local 12\, Valladolid\, VALLADOLID\, 47004\, España
ATTACH;FMTTYPE=image/png:https://castillayleon.adicae.es/wp-content/uploads/2026/01/Diseno-sin-titulo-1.png
END:VEVENT
BEGIN:VEVENT
DTSTART;TZID=Europe/Madrid:20260330T173000
DTEND;TZID=Europe/Madrid:20260330T190000
DTSTAMP:20260423T134155
CREATED:20260109T113852Z
LAST-MODIFIED:20260109T115913Z
UID:1132-1774891800-1774897200@castillayleon.adicae.es
SUMMARY:APRENDE A USAR TU PC DE MANERA SENCILLA
DESCRIPTION:Queridos socios/as y simpatizantes: \nSabemos que la tecnología avanza muy rápido… pero también sabemos que nunca es tarde para aprender. \nY más aún cuando se trata de algo que puede hacerte la vida más fácil. \nPor eso\, desde ADICAE retomamos nuestros talleres de alfabetización digital para PC donde aprenderás\, paso a paso y sin agobios\, a usar tu ordenador para realizar las tareas cotidianas\, compras online\, trámites administrativos\, navegación y búsqueda de información\, creación o modificación de documentos\, etc. de una manera fácil y segura. \n\n¿Te suenan alguna de estas frases?\n\n“Tengo un ordenador portátil pero no me atrevo ni a encenderlo…”\n“El ordenador me va lento porque creo que tengo virus y me salen muchas pantallas de publicidad que yo no quiero…»\n“Me gustaría saber hacer lo básico\, usar o firmar un PDF\, redactar un documento o firmar un documento con certificado digital o a tratar con la administración pública pero me veo incapaz…”\n«No sé lo que es un buzón de correo electrónico\, cómo se crea ni qué ventajas tiene para mí…»\n\nSi te has planteado cuestiones como estas\, entonces ESTE TALLER ES PARA TI \nNo importa si sabes poco o nada. Estaremos a tu lado para que ganes confianza y autonomía en el uso de tu ordenador personal. \n¿Qué aprenderás?\n✔ A moverte con soltura por las ventanas y el escritorio del PC.\n✔ A crear y/o manejar con soltura una cuenta de correo electrónico.\n✔ A buscar información útil en internet.\n✔ A identificar fraudes y proteger tus datos.\n✔ A conseguir tu certificado digital\, firmar documentos o tratar con la administración con dicho certificado. \n¿Cuándo y dónde se realizarán?\n📅 TODOS LOS LUNES (DESDE EL 19 DE ENERO AL 30 DE MARZO (AMBOS INCLUIDOS) \nHORA: 17:30 HORAS \n📍PRESENCIAL en la sede de ADICAE en Valladolid \n  \n💰 Taller GRATUITO para socios y simpatizantes de ADICAE \n  \nSerá un espacio tranquilo\, paso a paso\, a vuestro ritmo y con un acompañamiento personalizado y\, lo mejor de todo\, sin necesidad de tener conocimientos previos. Además\, compartirás la experiencia con otras personas socias o simpatizantes con tus mismas inquietudes. \n  \n¡Da el paso\, que nosotros te acompañamos! \nTu PC también puede ser tu gran aliado 🙂 \n  \n¡TE INVITAMOS A VISITARNOS!
URL:https://castillayleon.adicae.es/actividad/aprende-a-usar-tu-pc-de-manera-sencilla/
LOCATION:Sede ADICAE Castilla y León\, Calle General Ruiz\, 2 (Pasaje de la Marquesina)\, Local 12\, Valladolid\, VALLADOLID\, 47004\, España
ATTACH;FMTTYPE=image/png:https://castillayleon.adicae.es/wp-content/uploads/2026/01/Diseno-sin-titulo-1.png
END:VEVENT
END:VCALENDAR