BEGIN:VCALENDAR
VERSION:2.0
PRODID:-//ADICAE Castilla y León - ECPv6.15.20//NONSGML v1.0//EN
CALSCALE:GREGORIAN
METHOD:PUBLISH
X-ORIGINAL-URL:https://castillayleon.adicae.es
X-WR-CALDESC:Eventos para ADICAE Castilla y León
REFRESH-INTERVAL;VALUE=DURATION:PT1H
X-Robots-Tag:noindex
X-PUBLISHED-TTL:PT1H
BEGIN:VTIMEZONE
TZID:Europe/Madrid
BEGIN:DAYLIGHT
TZOFFSETFROM:+0100
TZOFFSETTO:+0200
TZNAME:CEST
DTSTART:20250330T010000
END:DAYLIGHT
BEGIN:STANDARD
TZOFFSETFROM:+0200
TZOFFSETTO:+0100
TZNAME:CET
DTSTART:20251026T010000
END:STANDARD
BEGIN:DAYLIGHT
TZOFFSETFROM:+0100
TZOFFSETTO:+0200
TZNAME:CEST
DTSTART:20260329T010000
END:DAYLIGHT
BEGIN:STANDARD
TZOFFSETFROM:+0200
TZOFFSETTO:+0100
TZNAME:CET
DTSTART:20261025T010000
END:STANDARD
BEGIN:DAYLIGHT
TZOFFSETFROM:+0100
TZOFFSETTO:+0200
TZNAME:CEST
DTSTART:20270328T010000
END:DAYLIGHT
BEGIN:STANDARD
TZOFFSETFROM:+0200
TZOFFSETTO:+0100
TZNAME:CET
DTSTART:20271031T010000
END:STANDARD
END:VTIMEZONE
BEGIN:VEVENT
DTSTART;TZID=Europe/Madrid:20260308T120000
DTEND;TZID=Europe/Madrid:20260308T133000
DTSTAMP:20260423T114540
CREATED:20260304T153312Z
LAST-MODIFIED:20260304T160152Z
UID:1179-1772971200-1772976600@castillayleon.adicae.es
SUMMARY:ESTE 8M ACOMPAÑA A ADICAE CYL A LA MANIFESTACIÓN EN DEFENSA DE UN CONSUMO JUSTO E IGUALITARIO
DESCRIPTION:Acompáñanos este 8M a la manifestación de Valladolid (que sale de Fuente Dorada a las 12:00 H): \nPunto de encuentro: Pasaje de la Marquesina (en la entrada que da a calle Dos de Mayo) \nHora: 11:30 horas \nLlevaremos nuestras camisetas serigrafiadas (si no tienes te regalaremos una)\, nuestros carteles y las ganas de reivindicar un consumo justo para todas las personas consumidoras\, sin distinción de ningún tipo. \n¡Te esperamos! \n 
URL:https://castillayleon.adicae.es/actividad/este-8m-acompana-a-adicae-cyl-a-la-manifestacion-en-defensa-de-un-consumo-justo-e-igualitario/
LOCATION:VALLADOLID
ATTACH;FMTTYPE=image/jpeg:https://castillayleon.adicae.es/wp-content/uploads/2026/03/CARTEL-8M_page-0001.jpg
END:VEVENT
END:VCALENDAR