BEGIN:VCALENDAR
VERSION:2.0
PRODID:-//ADICAE Castilla y León - ECPv6.15.20//NONSGML v1.0//EN
CALSCALE:GREGORIAN
METHOD:PUBLISH
X-WR-CALNAME:ADICAE Castilla y León
X-ORIGINAL-URL:https://castillayleon.adicae.es
X-WR-CALDESC:Eventos para ADICAE Castilla y León
REFRESH-INTERVAL;VALUE=DURATION:PT1H
X-Robots-Tag:noindex
X-PUBLISHED-TTL:PT1H
BEGIN:VTIMEZONE
TZID:Europe/Madrid
BEGIN:DAYLIGHT
TZOFFSETFROM:+0100
TZOFFSETTO:+0200
TZNAME:CEST
DTSTART:20230326T010000
END:DAYLIGHT
BEGIN:STANDARD
TZOFFSETFROM:+0200
TZOFFSETTO:+0100
TZNAME:CET
DTSTART:20231029T010000
END:STANDARD
BEGIN:DAYLIGHT
TZOFFSETFROM:+0100
TZOFFSETTO:+0200
TZNAME:CEST
DTSTART:20240331T010000
END:DAYLIGHT
BEGIN:STANDARD
TZOFFSETFROM:+0200
TZOFFSETTO:+0100
TZNAME:CET
DTSTART:20241027T010000
END:STANDARD
BEGIN:DAYLIGHT
TZOFFSETFROM:+0100
TZOFFSETTO:+0200
TZNAME:CEST
DTSTART:20250330T010000
END:DAYLIGHT
BEGIN:STANDARD
TZOFFSETFROM:+0200
TZOFFSETTO:+0100
TZNAME:CET
DTSTART:20251026T010000
END:STANDARD
END:VTIMEZONE
BEGIN:VEVENT
DTSTART;TZID=Europe/Madrid:20241219T120000
DTEND;TZID=Europe/Madrid:20241219T140000
DTSTAMP:20260423T153046
CREATED:20241211T113247Z
LAST-MODIFIED:20241211T114345Z
UID:603-1734609600-1734616800@castillayleon.adicae.es
SUMMARY:ACTO DE PRESENTACIÓN: "EL PAPEL DE LA INTELIGENCIA ARTIFICIAL EN EL COMERCIO ELECTRÓNICO"
DESCRIPTION:En este acto ADICAE ofrece a todos los consumidores la posibilidad de conocer las conclusiones finales acerca de si se cumple\, o no\,  por parte de las plataformas de compra online la ley de servicios digitales. \nAdemás\, la asociación también presentará un estudio jurídico en relación al papel e impacto que la Inteligencia Artificial juega en el proceso de compra en internet. Discerniremos si ayuda a este proceso y si beneficia en algo al consumidor o sólo al vendedor. \nPara apuntarte de manera libre y gratuita: \n ASISTENCIA PRESENCIAL EN LA SEDE DE ADICAE CASTILLA Y LEÓN: confirma tu asistencia en el mail: valladolid@adicae.net o por teléfono en el 983 37 31 73 y por whatsapp al 650 61 94 09. \nASISTENCIA ONLINE: solo tendrás que escanear el código QR del cartel para inscribirte pinchar AQUÍ \n* LOS ASISTENTES QUE ACUDAN PRESENCIALMENTE A LA SEDE DE ADICAE CASTILLA Y LEÓN RECIBIRÁN UNA «GUÍA PRÁCTICA SOBRE E-COMMERCE» Y UNA BOLSA ECOLÓGICA. \n¡Te esperamos! \n 
URL:https://castillayleon.adicae.es/actividad/acto-de-presentacion-el-papel-de-la-inteligencia-artificial-en-el-comercio-electronico/
LOCATION:Sede ADICAE Castilla y León\, Calle General Ruiz\, 2 (Pasaje de la Marquesina)\, Local 12\, Valladolid\, VALLADOLID\, 47004\, España
ATTACH;FMTTYPE=image/jpeg:https://castillayleon.adicae.es/wp-content/uploads/2024/12/CARTEL-PANTALLA.jpg
END:VEVENT
END:VCALENDAR