BEGIN:VCALENDAR
VERSION:2.0
PRODID:-//ADICAE Castilla y León - ECPv6.15.20//NONSGML v1.0//EN
CALSCALE:GREGORIAN
METHOD:PUBLISH
X-ORIGINAL-URL:https://castillayleon.adicae.es
X-WR-CALDESC:Eventos para ADICAE Castilla y León
REFRESH-INTERVAL;VALUE=DURATION:PT1H
X-Robots-Tag:noindex
X-PUBLISHED-TTL:PT1H
BEGIN:VTIMEZONE
TZID:Europe/Madrid
BEGIN:DAYLIGHT
TZOFFSETFROM:+0100
TZOFFSETTO:+0200
TZNAME:CEST
DTSTART:20230326T010000
END:DAYLIGHT
BEGIN:STANDARD
TZOFFSETFROM:+0200
TZOFFSETTO:+0100
TZNAME:CET
DTSTART:20231029T010000
END:STANDARD
BEGIN:DAYLIGHT
TZOFFSETFROM:+0100
TZOFFSETTO:+0200
TZNAME:CEST
DTSTART:20240331T010000
END:DAYLIGHT
BEGIN:STANDARD
TZOFFSETFROM:+0200
TZOFFSETTO:+0100
TZNAME:CET
DTSTART:20241027T010000
END:STANDARD
BEGIN:DAYLIGHT
TZOFFSETFROM:+0100
TZOFFSETTO:+0200
TZNAME:CEST
DTSTART:20250330T010000
END:DAYLIGHT
BEGIN:STANDARD
TZOFFSETFROM:+0200
TZOFFSETTO:+0100
TZNAME:CET
DTSTART:20251026T010000
END:STANDARD
END:VTIMEZONE
BEGIN:VEVENT
DTSTART;TZID=Europe/Madrid:20241210T180000
DTEND;TZID=Europe/Madrid:20241210T193000
DTSTAMP:20260423T153142
CREATED:20241128T162026Z
LAST-MODIFIED:20241128T162833Z
UID:575-1733853600-1733859000@castillayleon.adicae.es
SUMMARY:SISTEMAS DE CALEFACCIÓN. PROS Y CONTRAS. ¿CUÁL DE TODOS ELLOS NOS CONVIENE INSTALAR?
DESCRIPTION:Los tradicionales sistemas de calefacción están siendo sustituidos en muchos casos por otros más modernos. Pero\, ¿también son mejores? \nLos tiempos que corren tienden hacia unos sistemas de calefacción más eficientes\, menos contaminantes. En esta sesión formativa descubrirás los pros y contras de los principales sistemas de calefacción que se han venido usando tradicionalmente y de los nuevos que están llegando\, para que tengas claro cuál te conviene para tu caso particular. \n¿Quieres saber cómo ahorrar dependiendo de tu situación personal y del emplazamiento o distribución de tu hogar? Pues este es el momento de descubrirlo.\n¿Cómo puedo acudir a la sesión? \nPresencialmente: en la sede de Adicae CyL (Calle General Ruiz\, 2\, Pasaje de la Marquesina\, Local 12). 47004 Valladolid \nVideoconferencia: pincha AQUÍ
URL:https://castillayleon.adicae.es/actividad/sistemas-de-calefaccion-pros-y-contras-cual-de-todos-ellos-nos-conviene-tener-instalados/
LOCATION:Sede ADICAE Castilla y León\, Calle General Ruiz\, 2 (Pasaje de la Marquesina)\, Local 12\, Valladolid\, VALLADOLID\, 47004\, España
ATTACH;FMTTYPE=image/jpeg:https://castillayleon.adicae.es/wp-content/uploads/2024/11/Firefly-radiadores-calefaccion-54401.jpg
END:VEVENT
END:VCALENDAR