BEGIN:VCALENDAR
VERSION:2.0
PRODID:-//ADICAE Castilla y León - ECPv6.15.20//NONSGML v1.0//EN
CALSCALE:GREGORIAN
METHOD:PUBLISH
X-WR-CALNAME:ADICAE Castilla y León
X-ORIGINAL-URL:https://castillayleon.adicae.es
X-WR-CALDESC:Eventos para ADICAE Castilla y León
REFRESH-INTERVAL;VALUE=DURATION:PT1H
X-Robots-Tag:noindex
X-PUBLISHED-TTL:PT1H
BEGIN:VTIMEZONE
TZID:Europe/Madrid
BEGIN:DAYLIGHT
TZOFFSETFROM:+0100
TZOFFSETTO:+0200
TZNAME:CEST
DTSTART:20230326T010000
END:DAYLIGHT
BEGIN:STANDARD
TZOFFSETFROM:+0200
TZOFFSETTO:+0100
TZNAME:CET
DTSTART:20231029T010000
END:STANDARD
BEGIN:DAYLIGHT
TZOFFSETFROM:+0100
TZOFFSETTO:+0200
TZNAME:CEST
DTSTART:20240331T010000
END:DAYLIGHT
BEGIN:STANDARD
TZOFFSETFROM:+0200
TZOFFSETTO:+0100
TZNAME:CET
DTSTART:20241027T010000
END:STANDARD
BEGIN:DAYLIGHT
TZOFFSETFROM:+0100
TZOFFSETTO:+0200
TZNAME:CEST
DTSTART:20250330T010000
END:DAYLIGHT
BEGIN:STANDARD
TZOFFSETFROM:+0200
TZOFFSETTO:+0100
TZNAME:CET
DTSTART:20251026T010000
END:STANDARD
END:VTIMEZONE
BEGIN:VEVENT
DTSTART;TZID=Europe/Madrid:20241126T180000
DTEND;TZID=Europe/Madrid:20241126T200000
DTSTAMP:20260423T153044
CREATED:20241114T123049Z
LAST-MODIFIED:20241114T123353Z
UID:533-1732644000-1732651200@castillayleon.adicae.es
SUMMARY:TALLER SOBRE COMERCIO ELECTRÓNICO EN ARANDA DE DUERO (BURGOS)
DESCRIPTION:APRENDE A COMPRAR POR INTERNET Y A DEFENDER TUS DERECHOS\n  \nCon motivo del proyecto subvencionado por el Ministerio de Consumo a nuestra asociación\, desde ADICAE CASTILLA Y LEÓN os proponemos un taller en vuestra localidad\,  Aranda de Duero (Burgos) para conocer aspectos interesantes sobre COMERCIO ELECTRÓNICO\, sus riesgos\, métodos de pago\, derechos de los consumidores\, cómo reclamar si hay problemas\, en qué plataformas confiar\, etc. \nLa sesión es GRATUITA Y ABIERTA AL PÚBLICO HASTA COMPLETAR AFORO\, y tendrá lugar el MARTES 26 DE NOVIEMBRE DE 2024 en el siguiente emplazamiento y horario: \n\nARANDA DE DUERO: Casa de los Fantasmas\, Plaza del Trigo\, 10. \n\n18:00 HORAS\n\n\n\nActo gratuito y abierto a todos los consumidores. ¡Te esperamos!
URL:https://castillayleon.adicae.es/actividad/talleres-sobre-comercio-electronico-en-aranda-de-duero-burgos/
LOCATION:VALLADOLID
ATTACH;FMTTYPE=image/jpeg:https://castillayleon.adicae.es/wp-content/uploads/2024/11/JORNADA-COMERCIO-ELECTRONICO_ARANDA.jpg
END:VEVENT
END:VCALENDAR